Workbook

Sheet ORÇAMENTO
B2: PLANILHA ORÇAMENTÁRIA
B3: LOCAÇÃO DE EQUIPAMENTOS DE IMPRESSÃO E CÓPIA
B4: BASE DE PREÇO: COTAÇÕES (PREÇO MÉDIO)
B5: ITEM | C5: DESCRIÇÃO | D5: UNID | E5: QTDE | F5: PREÇO UNITÁRIO MÉDIO | G5: PREÇO TOTAL MÉDIO
B6: 1. | C6: EQUIPAMENTOS
B7: 1.1 | C7: IMPRESSORA MONOCROMÁTICA FORMATO A4 | D7: PÁGINA IMPRESSA | E7: 9000000 | F7: =COTAÇÕES!K8 -> 0.16 | G7: =E7*F7 -> 1440000
C8: COM QUANTIDADE DE EQUIPAMENTOS ADOTADA POR MUNCÍPIO DE 15, TOTALIZANDO PARA OS 30 MUNICÍPIOS FORNECIMENTO DE 450 EQUIPAMENTOS.
B9: 1.2 | C9: EQUIPAMENTO MULTIFUNCIONAL MONOCROMÁTICO FORMATO A4 – TIPO 1 | D9: PÁGINA IMPRESSA | E9: 36000000 | F9: =COTAÇÕES!K13 -> 0.16 | G9: =E9*F9 -> 5760000
C10: COM QUANTIDADE DE EQUIPAMENTOS ADOTADA POR MUNCÍPIO DE 30, TOTALIZANDO PARA OS 30 MUNICÍPIOS FORNECIMENTO DE 900 EQUIPAMENTOS.
B11: 1.3 | C11: EQUIPAMENTO MULTIFUNCIONAL MONOCROMÁTICO FORMATO A4 – TIPO 2 | D11: PÁGINA IMPRESSA | E11: 36000000 | F11: =COTAÇÕES!K18 -> 0.16 | G11: =E11*F11 -> 5760000
C12: COM QUANTIDADE DE EQUIPAMENTOS ADOTADA POR MUNCÍPIO DE 30, TOTALIZANDO PARA OS 30 MUNICÍPIOS FORNECIMENTO DE 900 EQUIPAMENTOS.
B13: 1.4 | C13: EQUIPAMENTO MULTIFUNCIONAL POLICROMÁTICA FORMATO A4 – TIPO 3 | D13: PÁGINA IMPRESSA | E13: 5400000 | F13: =COTAÇÕES!K23 -> 1.32 | G13: =E13*F13 -> 7128000
C14: COM QUANTIDADE DE EQUIPAMENTOS ADOTADA POR MUNCÍPIO DE 15, TOTALIZANDO PARA OS 30 MUNICÍPIOS FORNECIMENTO DE 450 EQUIPAMENTOS.
B15: 1.5 | C15: EQUIPAMENTO MULTIFUNCIONAL POLICROMÁTICA FORMATO A3 | D15: PÁGINA IMPRESSA | E15: 16920000 | F15: =COTAÇÕES!K23 -> 1.32 | G15: =E15*F15 -> 22334400
C16: COM QUANTIDADE DE EQUIPAMENTOS ADOTADA POR MUNCÍPIO DE 5, TOTALIZANDO PARA OS 30 MUNICÍPIOS FORNECIMENTO DE 150 EQUIPAMENTOS.
B17: 1.6 | C17: FRAGMENTADORA | D17: ALUGUEL MENSAL | E17: 300 | F17: =COTAÇÕES!K33 -> 97 | G17: =E17*F17 -> 29100
C18: COM QUANTIDADE DE EQUIPAMENTOS ADOTADA POR MUNCÍPIO DE 10, TOTALIZANDO PARA OS 30 MUNICÍPIOS FORNECIMENTO DE 300 EQUIPAMENTOS.
B19: 1.7 | C19: DESUMIDIFICADORA | D19: ALUGUEL MENSAL | E19: 300 | F19: =COTAÇÕES!K38 -> 50 | G19: =E19*F19 -> 15000
C20: COM QUANTIDADE DE EQUIPAMENTOS ADOTADA POR MUNCÍPIO DE 10, TOTALIZANDO PARA OS 30 MUNICÍPIOS FORNECIMENTO DE 300 EQUIPAMENTOS.
B21: 1.8 | C21: SERVIDOR DE IMPRESSÃO | D21: ALUGUEL MENSAL | E21: 30 | F21: =COTAÇÕES!K43 -> 955 | G21: =E21*F21 -> 28650
C22: COM QUANTIDADE DE EQUIPAMENTOS ADOTADA POR MUNCÍPIO DE 1, TOTALIZANDO PARA OS 30 MUNICÍPIOS FORNECIMENTO DE 30 EQUIPAMENTOS.
B23: VALOR TOTAL DA LICITAÇÃO: | G23: =SUM(G7:G22) -> 42495150

Sheet COTAÇÕES
B2: COTAÇÕES
B3: SUB-ITEM | C3: NÚM. | D3: EMPRESA | E3: CNPJ | F3: DATA | G3: CONTATO | H3: SITE | I3: DESCRIÇÃO | J3: UNID. | K3: PREÇO UNITÁRIO
B5: COTAÇÃO-A | C5: COT-1 | D5: PAPELARIA E COPIADORA COPYSUL LTDA | E5: 68.533.967/0001-72 | F5: 45775 | G5: (035) 3690-4400 | H5: www.copysul.com.br | I5: =ORÇAMENTO!C7 -> IMPRESSORA MONOCROMÁTICA FORMATO A4 | J5: PÁGINA IMPRESSA | K5: 0.16
C6: COT-2 | D6: ELO FORTE COMERCIAL LTDA | E6: 18.722.283/0001-40 | F6: 45775 | G6: (19) 3321-9949 / 3544-3603 | H6: www.elocopy.com.br | J6: PÁGINA IMPRESSA | K6: 0.17
C7: COT-3 | D7: UNICÓPIA LTDA | E7: 04.315.058/0001-85 | F7: 45770 | G7: (35) 3425-3274 | H7: www.unicopia.com.br | J7: PÁGINA IMPRESSA | K7: 0.15
B8: VALOR DA COTAÇÃO (MÉDIA): | K8: =ROUND(AVERAGE(K5:K7),2) -> 0.16
B10: COTAÇÃO-B | C10: COT-1 | D10: PAPELARIA E COPIADORA COPYSUL LTDA | E10: 68.533.967/0001-72 | F10: 45775 | G10: (035) 3690-4400 | H10: www.copysul.com.br | I10: =ORÇAMENTO!C9 -> EQUIPAMENTO MULTIFUNCIONAL MONOCROMÁTICO FORMATO A4 – TIPO 1 | J10: PÁGINA IMPRESSA | K10: 0.16
C11: COT-2 | D11: ELO FORTE COMERCIAL LTDA | E11: 18.722.283/0001-40 | F11: 45775 | G11: (19) 3321-9949 / 3544-3603 | H11: www.elocopy.com.br | J11: PÁGINA IMPRESSA | K11: 0.17
C12: COT-3 | D12: UNICÓPIA LTDA | E12: 04.315.058/0001-85 | F12: 45770 | G12: (35) 3425-3274 | H12: www.unicopia.com.br | J12: PÁGINA IMPRESSA | K12: 0.15
B13: VALOR DA COTAÇÃO (MÉDIA): | K13: =ROUND(AVERAGE(K10:K12),2) -> 0.16
B15: COTAÇÃO-C | C15: COT-1 | D15: PAPELARIA E COPIADORA COPYSUL LTDA | E15: 68.533.967/0001-72 | F15: 45775 | G15: (035) 3690-4400 | H15: www.copysul.com.br | I15: =ORÇAMENTO!C11 -> EQUIPAMENTO MULTIFUNCIONAL MONOCROMÁTICO FORMATO A4 – TIPO 2 | J15: PÁGINA IMPRESSA | K15: 0.16
C16: COT-2 | D16: ELO FORTE COMERCIAL LTDA | E16: 18.722.283/0001-40 | F16: 45775 | G16: (19) 3321-9949 / 3544-3603 | H16: www.elocopy.com.br | J16: PÁGINA IMPRESSA | K16: 0.17
C17: COT-3 | D17: UNICÓPIA LTDA | E17: 04.315.058/0001-85 | F17: 45770 | G17: (35) 3425-3274 | H17: www.unicopia.com.br | J17: PÁGINA IMPRESSA | K17: 0.15
B18: VALOR DA COTAÇÃO (MÉDIA): | K18: =ROUND(AVERAGE(K15:K17),2) -> 0.16
B20: COTAÇÃO-D | C20: COT-1 | D20: PAPELARIA E COPIADORA COPYSUL LTDA | E20: 68.533.967/0001-72 | F20: 45775 | G20: (035) 3690-4400 | H20: www.copysul.com.br | I20: =ORÇAMENTO!C13 -> EQUIPAMENTO MULTIFUNCIONAL POLICROMÁTICA FORMATO A4 – TIPO 3 | J20: PÁGINA IMPRESSA | K20: 1.25
C21: COT-2 | D21: ELO FORTE COMERCIAL LTDA | E21: 18.722.283/0001-40 | F21: 45775 | G21: (19) 3321-9949 / 3544-3603 | H21: www.elocopy.com.br | J21: PÁGINA IMPRESSA | K21: 1.5
C22: COT-3 | D22: UNICÓPIA LTDA | E22: 04.315.058/0001-85 | F22: 45770 | G22: (35) 3425-3274 | H22: www.unicopia.com.br | J22: PÁGINA IMPRESSA | K22: 1.2
B23: VALOR DA COTAÇÃO (MÉDIA): | K23: =ROUND(AVERAGE(K20:K22),2) -> 1.32
B25: COTAÇÃO-E | C25: COT-1 | D25: PAPELARIA E COPIADORA COPYSUL LTDA | E25: 68.533.967/0001-72 | F25: 45775 | G25: (035) 3690-4400 | H25: www.copysul.com.br | I25: =ORÇAMENTO!C15 -> EQUIPAMENTO MULTIFUNCIONAL POLICROMÁTICA FORMATO A3 | J25: PÁGINA IMPRESSA | K25: 1.25
C26: COT-2 | D26: ELO FORTE COMERCIAL LTDA | E26: 18.722.283/0001-40 | F26: 45775 | G26: (19) 3321-9949 / 3544-3603 | H26: www.elocopy.com.br | J26: PÁGINA IMPRESSA | K26: 1.5
C27: COT-3 | D27: UNICÓPIA LTDA | E27: 04.315.058/0001-85 | F27: 45770 | G27: (35) 3425-3274 | H27: www.unicopia.com.br | J27: PÁGINA IMPRESSA | K27: 1.2
B28: VALOR DA COTAÇÃO (MÉDIA): | K28: =ROUND(AVERAGE(K25:K27),2) -> 1.32
B30: COTAÇÃO-F | C30: COT-1 | D30: PAPELARIA E COPIADORA COPYSUL LTDA | E30: 68.533.967/0001-72 | F30: 45775 | G30: (035) 3690-4400 | H30: www.copysul.com.br | I30: =ORÇAMENTO!C17 -> FRAGMENTADORA | J30: ALUGUEL MENSAL | K30: 97
C31: COT-2 | D31: ELO FORTE COMERCIAL LTDA | E31: 18.722.283/0001-40 | F31: 45775 | G31: (19) 3321-9949 / 3544-3603 | H31: www.elocopy.com.br | J31: ALUGUEL MENSAL | K31: 99
C32: COT-3 | D32: UNICÓPIA LTDA | E32: 04.315.058/0001-85 | F32: 45770 | G32: (35) 3425-3274 | H32: www.unicopia.com.br | J32: ALUGUEL MENSAL | K32: 95
B33: VALOR DA COTAÇÃO (MÉDIA): | K33: =ROUND(AVERAGE(K30:K32),2) -> 97
B35: COTAÇÃO-G | C35: COT-1 | D35: PAPELARIA E COPIADORA COPYSUL LTDA | E35: 68.533.967/0001-72 | F35: 45775 | G35: (035) 3690-4400 | H35: www.copysul.com.br | I35: =ORÇAMENTO!C19 -> DESUMIDIFICADORA | J35: ALUGUEL MENSAL | K35: 50
C36: COT-2 | D36: ELO FORTE COMERCIAL LTDA | E36: 18.722.283/0001-40 | F36: 45775 | G36: (19) 3321-9949 / 3544-3603 | H36: www.elocopy.com.br | J36: ALUGUEL MENSAL | K36: 52
C37: COT-3 | D37: UNICÓPIA LTDA | E37: 04.315.058/0001-85 | F37: 45770 | G37: (35) 3425-3274 | H37: www.unicopia.com.br | J37: ALUGUEL MENSAL | K37: 48
B38: VALOR DA COTAÇÃO (MÉDIA): | K38: =ROUND(AVERAGE(K35:K37),2) -> 50
B40: COTAÇÃO-H | C40: COT-1 | D40: PAPELARIA E COPIADORA COPYSUL LTDA | E40: 68.533.967/0001-72 | F40: 45775 | G40: (035) 3690-4400 | H40: www.copysul.com.br | I40: =ORÇAMENTO!C21 -> SERVIDOR DE IMPRESSÃO | J40: ALUGUEL MENSAL | K40: 895
C41: COT-2 | D41: ELO FORTE COMERCIAL LTDA | E41: 18.722.283/0001-40 | F41: 45775 | G41: (19) 3321-9949 / 3544-3603 | H41: www.elocopy.com.br | J41: ALUGUEL MENSAL | K41: 1090
C42: COT-3 | D42: UNICÓPIA LTDA | E42: 04.315.058/0001-85 | F42: 45770 | G42: (35) 3425-3274 | H42: www.unicopia.com.br | J42: ALUGUEL MENSAL | K42: 880
B43: VALOR DA COTAÇÃO (MÉDIA): | K43: =ROUND(AVERAGE(K40:K42),2) -> 955
