Workbook
Name A: #REF!
Name COMPOSIÇÃO: #REF!
Name COMPOSIÇÃO_COTAÇÃO: #REF!
Name COTAÇÃO: #REF!
Name COTAÇÕES: #REF!
Name QUADRO_GERAL: #REF!

Sheet ORÇAMENTO
B2: PLANILHA ORÇAMENTÁRIA
B3: FORNECIMENTO DE EQUIPAMENTOS ELETRÔNICOS
B4: BASE DE PREÇO: COTAÇÕES (PREÇO MÉDIO)
B5: ITEM | C5: EQUIPAMENTOS | D5: UNID | E5: QTDE | F5: PREÇO UNITÁRIO MÉDIO | G5: PREÇO TOTAL MÉDIO DOS EQUIPAMENTOS POR TIPO | H5: PREÇO GLOBAL MÉDIO DOS EQUIPAMENTOS POR LOTES
B6: 1. | C6: LOTE 01
B7: 1.1 | C7: TABLET TIPO I | D7: UNID | E7: 52500 | F7: =COTAÇÕES!L8 -> 1044.75 | G7: =COTAÇÕES!M8 -> 54849375 | H7: =SUM(G7:G8) -> 131814375
B8: 1.2 | C8: TABLET TIPO II | D8: UNID | E8: 52500 | F8: =COTAÇÕES!L14 -> 1466 | G8: =COTAÇÕES!M14 -> 76965000
B9: 2. | C9: LOTE 02
B10: 2.1 | C10: CHROMEBOOK TIPO I | D10: UNID | E10: 52500 | F10: =COTAÇÕES!L20 -> 2099.75 | G10: =COTAÇÕES!M20 -> 110236875 | H10: =SUM(G10:G11) -> 266280000
B11: 2.2 | C11: CHROMEBOOK TIPO II | D11: UNID | E11: 52500 | F11: =COTAÇÕES!L26 -> 2972.25 | G11: =COTAÇÕES!M26 -> 156043125
B12: 3. | C12: LOTE 03
B13: 3.1 | C13: CARRINHO DE RECARGA (Gabinete para armazenamento, transporte e recarga) | D13: UNID | E13: 1875 | F13: =COTAÇÕES!L32 -> 7682.25 | G13: =COTAÇÕES!M32 -> 14404219 | H13: =G13 -> 14404219
B14: 4. | C14: LOTE 04
B15: 4.1 | C15: SMARTPHONE | D15: UNID | E15: 52500 | F15: =COTAÇÕES!L38 -> 866.67 | G15: =COTAÇÕES!M38 -> 45500000 | H15: =G15 -> 45500000

Sheet COTAÇÕES
B1: COTAÇÕES
B2: SUB-ITEM | C2: NÚM. | D2: EMPRESA | E2: CNPJ | F2: DATA | G2: CONTATO | H2: SITE | I2: DESCRIÇÃO | J2: MARCA | K2: QTDE | L2: PREÇO UNITÁRIO | M2: PREÇO TOTAL
B4: COTAÇÃO-A | C4: COT-1 | D4: Ágira Tecnologia Comercio e Serviços LTDA | E4: 26.833.976/0001-39 | F4: 45435 | G4: (11) 97192-4910 | H4: agira@agiratecnologia.com.br | I4: TABLET TIPO I | J4: SAMSUNG | K4: =ORÇAMENTO!E7 -> 52500 | L4: 910 | M4: =K4*L4 -> 47775000
C5: COT-2 | D5: Multilaser Industrial S/A | E5: 59.717.553/0006-17 | F5: 45436 | G5: (11) 94262-5549 | H5: andreia@grupomulti.com.br | J5: MULTILASER | K5: =K4 -> 52500 | L5: 1280 | M5: =K5*L5 -> 67200000
C6: COT-3 | D6: CHS - CONSULTORES ASSOCIADOS LTDA | E6: 17.921.326/0001-54 | F6: 45435 | G6: (81) 99996-5999 | H6: dmendonca@chs-ec.com.br | J6: SAMSUNG | K6: =K4 -> 52500 | L6: 890 | M6: =K6*L6 -> 46725000
C7: COT-4 | D7: Samsung Eletrônica da Amazônia LTDA | E7: 00.280.273/0029-38 | F7: 45435 | G7: (11) 98448-3431 | H7: https://www.samsung.com/br/ | J7: SAMSUNG | K7: =K4 -> 52500 | L7: 1099 | M7: =K7*L7 -> 57697500
B8: VALOR DA COTAÇÃO (MÉDIA): | L8: =ROUND(AVERAGE(L4:L7),2) -> 1044.75 | M8: =ROUND(AVERAGE(M4:M7),2) -> 54849375
B10: COTAÇÃO-B | C10: COT-1 | D10: Ágira Tecnologia Comercio e Serviços LTDA | E10: 26.833.976/0001-39 | F10: 45435 | G10: (11) 97192-4910 | H10: agira@agiratecnologia.com.br | I10: TABLET TIPO II | J10: SAMSUNG | K10: =ORÇAMENTO!E8 -> 52500 | L10: 1450 | M10: =K10*L10 -> 76125000
C11: COT-2 | D11: Multilaser Industrial S/A | E11: 59.717.553/0006-17 | F11: 45436 | G11: (11) 94262-5549 | H11: andreia@grupomulti.com.br | J11: MULTILASER | K11: =K10 -> 52500 | L11: 1590 | M11: =K11*L11 -> 83475000
C12: COT-3 | D12: CHS - CONSULTORES ASSOCIADOS LTDA | E12: 17.921.326/0001-54 | F12: 45435 | G12: (81) 99996-5999 | H12: dmendonca@chs-ec.com.br | J12: SAMSUNG | K12: =K10 -> 52500 | L12: 1425 | M12: =K12*L12 -> 74812500
C13: COT-4 | D13: Samsung Eletrônica da Amazônia LTDA | E13: 00.280.273/0029-38 | F13: 45435 | G13: (11) 98448-3431 | H13: https://www.samsung.com/br/ | J13: SAMSUNG | K13: =K10 -> 52500 | L13: 1399 | M13: =K13*L13 -> 73447500
B14: VALOR DA COTAÇÃO (MÉDIA): | L14: =ROUND(AVERAGE(L10:L13),2) -> 1466 | M14: =ROUND(AVERAGE(M10:M13),2) -> 76965000
B16: COTAÇÃO-C | C16: COT-1 | D16: Ágira Tecnologia Comercio e Serviços LTDA | E16: 26.833.976/0001-39 | F16: 45435 | G16: (11) 97192-4910 | H16: agira@agiratecnologia.com.br | I16: CHROMEBOOK TIPO I | J16: SAMSUNG | K16: =ORÇAMENTO!E10 -> 52500 | L16: 2150 | M16: =K16*L16 -> 112875000
C17: COT-2 | D17: Multilaser Industrial S/A | E17: 59.717.553/0006-17 | F17: 45436 | G17: (11) 94262-5549 | H17: andreia@grupomulti.com.br | J17: MULTILASER | K17: =K16 -> 52500 | L17: 1850 | M17: =K17*L17 -> 97125000
C18: COT-3 | D18: CHS - CONSULTORES ASSOCIADOS LTDA | E18: 17.921.326/0001-54 | F18: 45435 | G18: (81) 99996-5999 | H18: dmendonca@chs-ec.com.br | J18: ACER | K18: =K16 -> 52500 | L18: 2200 | M18: =K18*L18 -> 115500000
C19: COT-4 | D19: Samsung Eletrônica da Amazônia LTDA | E19: 00.280.273/0029-38 | F19: 45435 | G19: (11) 98448-3431 | H19: https://www.samsung.com/br/ | J19: SAMSUNG | K19: =K16 -> 52500 | L19: 2199 | M19: =K19*L19 -> 115447500
B20: VALOR DA COTAÇÃO (MÉDIA): | L20: =ROUND(AVERAGE(L16:L19),2) -> 2099.75 | M20: =ROUND(AVERAGE(M16:M19),2) -> 110236875
B22: COTAÇÃO-D | C22: COT-1 | D22: Ágira Tecnologia Comercio e Serviços LTDA | E22: 26.833.976/0001-39 | F22: 45435 | G22: (11) 97192-4910 | H22: agira@agiratecnologia.com.br | I22: CHROMEBOOK TIPO II | J22: SAMSUNG | K22: =ORÇAMENTO!E11 -> 52500 | L22: 3490 | M22: =K22*L22 -> 183225000
C23: COT-2 | D23: Multilaser Industrial S/A | E23: 59.717.553/0006-17 | F23: 45436 | G23: (11) 94262-5549 | H23: andreia@grupomulti.com.br | J23: MULTILASER | K23: =K22 -> 52500 | L23: 2300 | M23: =K23*L23 -> 120750000
C24: COT-3 | D24: CHS - CONSULTORES ASSOCIADOS LTDA | E24: 17.921.326/0001-54 | F24: 45435 | G24: (81) 99996-5999 | H24: dmendonca@chs-ec.com.br | J24: ACER | K24: =K22 -> 52500 | L24: 3600 | M24: =K24*L24 -> 189000000
C25: COT-4 | D25: Samsung Eletrônica da Amazônia LTDA | E25: 00.280.273/0029-38 | F25: 45435 | G25: (11) 98448-3431 | H25: https://www.samsung.com/br/ | J25: SAMSUNG | K25: =K22 -> 52500 | L25: 2499 | M25: =K25*L25 -> 131197500
B26: VALOR DA COTAÇÃO (MÉDIA): | L26: =ROUND(AVERAGE(L22:L25),2) -> 2972.25 | M26: =ROUND(AVERAGE(M22:M25),2) -> 156043125
B28: COTAÇÃO-D | C28: COT-1 | D28: Ágira Tecnologia Comercio e Serviços LTDA | E28: 26.833.976/0001-39 | F28: 45435 | G28: (11) 97192-4910 | H28: agira@agiratecnologia.com.br | I28: CARRINHO DE RECARGA (Gabinete para armazenamento, transporte e recarga) | J28: MOVPLAN | K28: =ORÇAMENTO!E13 -> 1875 | L28: 7330 | M28: =K28*L28 -> 13743750
C29: COT-2 | D29: Multilaser Industrial S/A | E29: 59.717.553/0006-17 | F29: 45436 | G29: (11) 94262-5549 | H29: andreia@grupomulti.com.br | J29: TES | K29: =K28 -> 1875 | L29: 9000 | M29: =K29*L29 -> 16875000
C30: COT-3 | D30: CHS - CONSULTORES ASSOCIADOS LTDA | E30: 17.921.326/0001-54 | F30: 45435 | G30: (81) 99996-5999 | H30: dmendonca@chs-ec.com.br | J30: TES | K30: =K28 -> 1875 | L30: 7500 | M30: =K30*L30 -> 14062500
C31: COT-4 | D31: Samsung Eletrônica da Amazônia LTDA | E31: 00.280.273/0029-38 | F31: 45435 | G31: (11) 98448-3431 | H31: https://www.samsung.com/br/ | J31: EDUCHARGE | K31: =K28 -> 1875 | L31: 6899 | M31: =K31*L31 -> 12935625
B32: VALOR DA COTAÇÃO (MÉDIA): | L32: =ROUND(AVERAGE(L28:L31),2) -> 7682.25 | M32: =ROUND(AVERAGE(M28:M31),2) -> 14404219
B34: COTAÇÃO-E | C34: COT-1 | D34: Ágira Tecnologia Comercio e Serviços LTDA | E34: 26.833.976/0001-39 | F34: 45435 | G34: (11) 97192-4910 | H34: agira@agiratecnologia.com.br | I34: SMARTPHONE | J34: SAMSUNG | K34: =ORÇAMENTO!E15 -> 52500 | L34: 1030 | M34: =K34*L34 -> 54075000
C35: COT-2 | D35: Multilaser Industrial S/A | E35: 59.717.553/0006-17 | F35: 45436 | G35: (11) 94262-5549 | H35: andreia@grupomulti.com.br | J35: MULTILASER | K35: =K34 -> 52500 | L35: 590 | M35: =K35*L35 -> 30975000
C36: COT-3 | D36: CHS - CONSULTORES ASSOCIADOS LTDA | E36: 17.921.326/0001-54 | F36: 45435 | G36: (81) 99996-5999 | H36: dmendonca@chs-ec.com.br | J36: MOTOROLA | K36: =K34 -> 52500 | L36: 980 | M36: =K36*L36 -> 51450000
C37: COT-4 | D37: Samsung Eletrônica da Amazônia LTDA | E37: 00.280.273/0029-38 | F37: 45435 | G37: (11) 98448-3431 | H37: https://www.samsung.com/br/ | J37: SAMSUNG | K37: =K34 -> 52500 | L37: - | M37: -
B38: VALOR DA COTAÇÃO (MÉDIA): | L38: =ROUND(AVERAGE(L34:L37),2) -> 866.67 | M38: =ROUND(AVERAGE(M34:M37),2) -> 45500000
