Workbook

Sheet CARGOS E SAL BASE
A1: ITEM | B1: CARGO | C1: QUANTIDADE | E1: CARGA HORÁRIA h | F1: SALÁRIO BASE R$ | G1: VALOR DO POSTO DE TRABALHO R$ | H1: VALOR DO POSTO DE TRABALHO R$ | K1: FONTE | L1: CBO | M1: VALOR FINAL R$
C2: LICITADA | D2: SOLICITADA | H2: com adicional Insalubridade médio | I2: com adicional Insalubridade máximo | J2: com adicional Noturno
A3: 1 | B3: AUXILIAR ADMINISTRATIVO 44 HR SEMANAIS | C3: 120 | D3: 120 | E3: 44H | F3: 1589.96 | G3: ='COMPARAÇÃO PMPA'!C79 -> 4924.4841 | K3: MG000612/2020 | L3: 4110-05 | M3: =C3*G3 -> 590938.1
A4: 2 | B4: AUXILIAR ADMINISTRATIVO 12X36 HORAS DIURNO | C4: 25 | D4: 25 | E4: 12X36 | F4: 1589.96 | G4: ='COMPARAÇÃO PMPA'!L3 -> 4604.1426 | K4: MG000612/2020 | L4: 4110-05 | M4: =C4*G4 -> 115103.56
A5: 3 | B5: RECEPCIONISTA 44 HR SEMANAIS | C5: 60 | D5: 60 | E5: 44H | F5: 1855.15 | G5: ='COMPARAÇÃO PMPA'!L4 -> 5437.8884 | K5: MG000612/2020 | L5: 4221-05 | M5: =C5*G5 -> 326273.31
A6: 4 | B6: RECEPCIONISTA 12X36 DIURNO | C6: 30 | D6: 30 | E6: 12X36 | F6: 1855.15 | G6: ='COMPARAÇÃO PMPA'!L5 -> 5117.5468 | K6: MG000612/2020 | L6: 4221-05 | M6: =C6*G6 -> 153526.41
A7: 5 | B7: RECEPCIONISTA 12X36 NOTURNO | C7: 30 | D7: 30 | E7: 12X36 | F7: 1855.15 | G7: ='COMPARAÇÃO PMPA'!L6 -> 5739.1221 | K7: MG000612/2020 | L7: 4221-05 | M7: =C7*G7 -> 172173.66
A8: 6 | B8: AUXILIAR DE COZINHA 44HR | C8: 150 | D8: 150 | E8: 44H | F8: 1086.46 | G8: ='COMPARAÇÃO PMPA'!L7 -> 4049.6405 | K8: MG000471/2020 | L8: 5135-05 | M8: =C8*G8 -> 607446.07
A9: 7 | B9: AUXILIAR DE COZINHA 12X36 DIA | C9: 20 | D9: 20 | E9: 12X36 | F9: 1086.46 | G9: ='COMPARAÇÃO PMPA'!L8 -> 3828.6777 | K9: MG000471/2020 | L9: 5135-05 | M9: =C9*G9 -> 76573.555
A10: 8 | B10: AUX DE LIMPEZA/FAXINEIRO/SERVIÇOS GERAIS 44HR | C10: 450 | D10: 450 | E10: 44H | F10: 1137.23 | G10: ='COMPARAÇÃO PMPA'!L9 -> 4009.0882 | K10: MG000612/2020 | L10: 5143-20 | M10: =C10*G10 -> 1804089.7
A11: 9 | B11: AUX DE LIMP/FAXINEIRO/SERV GERAIS 44HR INSALUBRE 20% | C11: 100 | D11: 100 | E11: 44H | F11: 1137.23 | G11: ='COMPARAÇÃO PMPA'!L10 -> 4428.077 | K11: MG000612/2020 | L11: 5143-20 | M11: =C11*G11 -> 442807.7
A12: 10 | B12: AUX DE LIMP/FAXINEIRO/SERV GERAIS 44HR INSALUBRE 40% | C12: 100 | D12: 100 | E12: 44H | F12: 1137.23 | G12: ='COMPARAÇÃO PMPA'!L11 -> 4847.0659 | K12: MG000612/2020 | L12: 5143-20 | M12: =C12*G12 -> 484706.59
A13: 11 | B13: AUX DE LIMP/FAXINEIRO/SERV GERAIS 12X36 DIA SEM INSAL | C13: 18 | D13: 18 | E13: 12X36 | F13: 1137.23 | G13: ='COMPARAÇÃO PMPA'!L12 -> 3688.7469 | K13: MG000612/2020 | L13: 5143-20 | M13: =C13*G13 -> 66397.445
A14: 12 | B14: AUX DE LIMP/FAXINEIRO/SERV GERAIS 12X36 DIA COM 20% INSAL | C14: 50 | D14: 50 | E14: 12X36 | F14: 1137.23 | G14: ='COMPARAÇÃO PMPA'!L13 -> 4107.7358 | K14: MG000612/2020 | L14: 5143-20 | M14: =C14*G14 -> 205386.79
A15: 13 | B15: AUX DE LIMP/FAXINEIRO/SERV GERAIS 12X36 DIA COM 40% INSAL | C15: 150 | D15: 150 | E15: 12X36 | F15: 1137.23 | G15: ='COMPARAÇÃO PMPA'!L14 -> 4526.7246 | K15: MG000612/2020 | L15: 5143-20 | M15: =C15*G15 -> 679008.69
... A26: 24 | B26: TELEFONISTA 36HR | C26: 40 | D26: 40 | E26: 36H | F26: 1832.78 | G26: ='COMPARAÇÃO PMPA'!L25 -> 4665.1316 | K26: MG001424/2020 | L26: 4222-05 | M26: =C26*G26 -> 186605.26
A27: 25 | B27: MONITOR DE TRANSPORTES/CRECHE/ESCOLA | C27: 400 | D27: 400 | E27: 44H | F27: 1054 | G27: ='COMPARAÇÃO PMPA'!H26 -> 3662.3252 | K27: MG001841 2019 | L27: 3341-15 | M27: =C27*G27 -> 1464930.1
A28: 26 | B28: MOTORISTA DE CAMINHÃO/MÁQUINA PESADA | C28: 18 | D28: 18 | E28: 44H | F28: 1865.86 | G28: ='COMPARAÇÃO PMPA'!L27 -> 5288.9061 | K28: MG002447/2020 | L28: 7825-10 | M28: =C28*G28 -> 95200.311
A29: 27 | B29: MOTORISTA DE ÔNIBUS ESCOLAR/MICROONIBUS ESCOLAR | C29: 50 | D29: 50 | E29: 44H | F29: 2719.91 | G29: ='COMPARAÇÃO PMPA'!L28 -> 7426.7387 | K29: MG002447/2020 | L29: 7824-05 | M29: =C29*G29 -> 371336.94
A30: 28 | B30: MOTORISTA DE CARRO ATE 7 LUGARES | C30: 20 | D30: 20 | E30: 44H | F30: 1832.02 | G30: ='COMPARAÇÃO PMPA'!L29 -> 5190.7889 | K30: MG002447/2020 | L30: 7823-05 | M30: =C30*G30 -> 103815.78
A31: 29 | B31: MOTORISTA AMBULANCIA 12X36 DIA | C31: 30 | D31: 30 | E31: 12X36 | F31: 2719.91 | G31: ='COMPARAÇÃO PMPA'!L30 -> 8127.6991 | K31: MG002447/2020 | L31: 7823-20 | M31: =C31*G31 -> 243830.97
A32: 30 | B32: MOTORISTA AMBULANCIA 12X36 NOITE | C32: 30 | D32: 30 | E32: 12X36 | F32: 2719.91 | G32: ='COMPARAÇÃO PMPA'!L31 -> 9179.0673 | K32: MG002447/2020 | L32: 7823-20 | M32: =C32*G32 -> 275372.02
A33: 31 | B33: PORTEIRO | C33: 250 | D33: 250 | E33: 44H | F33: 1398.79 | G33: ='COMPARAÇÃO PMPA'!L32 -> 4495.1113 | K33: CC MG000612/2020 | L33: 5174-10 | M33: =C33*G33 -> 1123777.8
A34: 32 | B34: PORTEIRO 12 X 36 DIURNO | C34: 50 | D34: 50 | E34: 12X36 | F34: 1398.79 | G34: ='COMPARAÇÃO PMPA'!L33 -> 4167.9971 | K34: CC MG000612/2020 | L34: 5174-10 | M34: =C34*G34 -> 208399.86
A35: 33 | B35: PORTEIRO 12 X 36 NOTURNO | C35: 50 | D35: 50 | E35: 12X36 | F35: 1398.79 | G35: ='COMPARAÇÃO PMPA'!L34 -> 4890.6036 | K35: CC MG000612/2020 | L35: 5174-10 | M35: =C35*G35 -> 244530.18
A36: 34 | B36: FARMACEUTICO 40HR | C36: 18 | D36: 18 | E36: 40H | F36: 4314.76 | G36: ='COMPARAÇÃO PMPA'!L35 -> 9452.9595 | K36: SIND FARMACEUTICOS MG CCT 2020/2021 | L36: 2234-05 | M36: =C36*G36 -> 170153.27
A37: 35 | B37: TECNICO LABORATORIO 44HR | C37: 18 | D37: 18 | E37: 44H | F37: 1252.64 | G37: ='COMPARAÇÃO PMPA'!L36 -> 3800.102 | K37: SIND TEC LABORATORIO MG CCT 2017/2019 | L37: 3242-05 | M37: =C37*G37 -> 68401.836
A38: 36 | B38: TECNICO LABORATORIO 12X36 DIA | C38: 18 | D38: 18 | E38: 12X36 | F38: 1252.64 | G38: ='COMPARAÇÃO PMPA'!L37 -> 3715.2001 | K38: SIND TEC LABORATORIO MG CCT 2017/2019 | L38: 3242-05 | M38: =C38*G38 -> 66873.601
A39: 37 | B39: TECNICO LABORATORIO 12X36 NOITE | C39: 18 | D39: 18 | E39: 12X36 | F39: 1252.64 | G39: ='COMPARAÇÃO PMPA'!L38 -> 4419.2054 | K39: SIND TEC LABORATORIO MG CCT 2017/2019 | L39: 3242-05 | M39: =C39*G39 -> 79545.696
... A54: 52 | B54: ASSISTENTE SOCIAL | C54: 18 | D54: 18 | E54: 30H | F54: 2990.48 | G54: ='COMPARAÇÃO PMPA'!L53 -> 6788.8176 | K54: SITE SALARIOBR.COM.BR | L54: 2516-05 | M54: =C54*G54 -> 122198.72
A55: 53 | B55: FARMACEUTICO BIOQUIMICO 12X36 DIA | C55: 18 | D55: 18 | E55: 12X36 | F55: ='COMPARAÇÃO PMPA'!G54 -> 2133.1 | G55: ='COMPARAÇÃO PMPA'!L54 -> 6129.8932 | K55: SITE SALARIOBR.COM.BR | L55: 2234-10 | M55: =C55*G55 -> 110338.08
A56: 54 | B56: FARMACEUTICO BIOQUIMICO 12X36 NOITE | C56: 18 | D56: 18 | E56: 12X36 | F56: 2133.1 | G56: ='COMPARAÇÃO PMPA'!L55 -> 6895.7078 | K56: SITE SALARIOBR.COM.BR | L56: 2234-10 | M56: =C56*G56 -> 124122.74
A57: 55 | B57: DENTISTA | C57: 18 | D57: 18 | E57: 30H | F57: 3824.18 | G57: ='COMPARAÇÃO PMPA'!L56 -> 9520.0573 | K57: SITE SALARIOBR.COM.BR | L57: 2232-08 | M57: =C57*G57 -> 171361.03
A58: 56 | B58: FONOAUDIOLOGO | C58: 18 | D58: 18 | E58: 30H | F58: ='COMPARAÇÃO PMPA'!G57 -> 2070.47 | G58: ='COMPARAÇÃO PMPA'!L57 -> 6004.9919 | K58: SITE SALARIOBR.COM.BR | L58: 2238-10 | M58: =C58*G58 -> 108089.85
A59: 57 | B59: NUTRICIONISTA | C59: 18 | D59: 18 | E59: 40H | F59: ='COMPARAÇÃO PMPA'!G58 -> 2331.89 | G59: ='COMPARAÇÃO PMPA'!L58 -> 6528.4141 | K59: SITE SALARIOBR.COM.BR | L59: 2237-10 | M59: =C59*G59 -> 117511.45
A60: 58 | B60: PSICOLOGO | C60: 18 | D60: 18 | E60: 30H | F60: ='COMPARAÇÃO PMPA'!G59 -> 2388.88 | G60: ='COMPARAÇÃO PMPA'!L59 -> 6642.6638 | K60: SITE SALARIOBR.COM.BR | L60: 2515-10 | M60: =C60*G60 -> 119567.95
A61: 59 | B61: TERAPEUTA OCUPACIONAL | C61: 18 | D61: 18 | E61: 30H | F61: ='COMPARAÇÃO PMPA'!G60 -> 2768.03 | G61: ='COMPARAÇÃO PMPA'!L60 -> 7402.7584 | K61: SITE SALARIOBR.COM.BR | L61: 2239-05 | M61: =C61*G61 -> 133249.65
A62: 60 | B62: MEDICO CLINICO GENERALISTA | C62: 60 | D62: 60 | E62: 20H | F62: ='COMPARAÇÃO PMPA'!G61 -> 5155.85 | G62: ='COMPARAÇÃO PMPA'!L61 -> 12189.7 | K62: SITE SALARIOBR.COM.BR | L62: 2251-25 | M62: =C62*G62 -> 731382.02
A63: 61 | B63: MEDICO CLINICO GENERALISTA | C63: 60 | D63: 60 | E63: 40H | F63: ='COMPARAÇÃO PMPA'!G62 -> 10311.7 | G63: ='COMPARAÇÃO PMPA'!L62 -> 22525.804 | K63: SITE SALARIOBR.COM.BR | L63: 2251-25 | M63: =C63*G63 -> 1351548.2
A64: 62 | B64: MEDICO PLANTONISTA 12 HORAS | C64: 100 | D64: 100 | E64: 12H | F64: 1500 | G64: ='COMPARAÇÃO PMPA'!H63 -> 3078.007 | K64: SITE SALARIOBR.COM.BR | L64: 2251-25 | M64: =C64*G64 -> 307800.7
...

Sheet COMPARAÇÃO PMPA
A1: Nº | B1: CARGO | C1: QTD. LICITADA | D1: UTILZA | E1: Carga Horária Mensal | F1: Carga Horária por Dia | G1: S.B | H1: Despesa Média Mensal | I1: Valor da Hora Extra | J1: Total de Horas p/ mês p/ Equiparação | K1: Total de Hrs/Mês em $ | L1: Despesa com equiparação de horas
A2: 1 | B2: AUXILIAR ADMINISTRATIVO 44 HORAS | C2: 1 | D2: 1 | E2: 220 | F2: 8H | G2: 1589.93 | H2: ='AUXILIAR ADMINISTRATIVO'!H87:J87 -> 4924.4841 | I2: =(H2/E2)+50% -> 22.884019 | J2: 0 | K2: =J2*I2 -> 0 | L2: =H2+K2 -> 4924.4841
A3: 2 | B3: AUXILIAR ADMINISTRATIVO 12X36 DIURNO | C3: 1 | D3: 1 | E3: 180 | F3: 12X36 | G3: 1589.93 | H3: ='AUX ADM 12X36 DIURNO'!H86:J86 -> 4604.1426 | I3: =(H3/210)+50% -> 22.424488 | J3: 0 | K3: =J3*I3 -> 0 | L3: =H3+K3 -> 4604.1426
A4: 3 | B4: RECEPCIONISTA 44 HR SEMANAIS | C4: 1 | D4: 1 | E4: 220 | F4: 8H | G4: 1855.15 | H4: ='RECEPCIONISTA 44'!H86:J86 -> 5437.8884 | I4: =(H4/E4)+50% -> 25.217675 | J4: 0 | K4: =J4*I4 -> 0 | L4: =H4+K4 -> 5437.8884
A5: 4 | B5: RECEPCIONISTA 12X36 NOTURNO | C5: 1 | D5: 1 | E5: 180 | F5: 12X36 | G5: 1855.15 | H5: ='RECEPCIONISTA 12X36'!H86:J86 -> 5117.5468 | I5: =(H5/210)+50% -> 24.869271 | J5: 0 | K5: =J5*I5 -> 0 | L5: =H5+K5 -> 5117.5468
A6: 5 | B6: RECEPCIONISTA 12X36 DIURNO | C6: 1 | D6: 1 | E6: 180 | F6: 12X36 | G6: 1855.15 | H6: ='RECEPCIONISTA 12X36 N'!H86:J86 -> 5739.1221 | I6: =(H6/210)+50% -> 27.829153 | J6: 0 | K6: =J6*I6 -> 0 | L6: =H6+K6 -> 5739.1221
A7: 6 | B7: AUXILIAR DE COZINHA 44HR | C7: 1 | D7: 1 | E7: 220 | F7: 8H | G7: 1086.46 | H7: ='AUXILIAR DE COZINHA'!H87:J87 -> 4049.6405 | I7: =(H7/E7)+75% -> 19.157457 | J7: 0 | K7: =J7*I7 -> 0 | L7: =H7+K7 -> 4049.6405
A8: 7 | B8: AUXILIAR DE COZINHA 12X36 DIA | C8: 1 | D8: 1 | E8: 180 | F8: 12X36 | G8: 1086.46 | H8: ='AUXILIAR DE COZINHA 12X36'!H87:J87 -> 3828.6777 | I8: =(H8/E8)+75% -> 22.020432 | J8: 0 | K8: =J8*I8 -> 0 | L8: =H8+K8 -> 3828.6777
A9: 8 | B9: AUX DE LIMPEZA/FAXINEIRO/SERVIÇOS GERAIS 44HR | C9: 1 | D9: 1 | E9: 220 | F9: 8H | G9: 1137.23 | H9: ='AUXILIAR DE LIMPEZA'!H86:J86 -> 4009.0882 | I9: =(H9/210)+50% -> 19.590896 | J9: 0 | K9: =J9*I9 -> 0 | L9: =H9+K9 -> 4009.0882
A10: 9 | B10: AUX DE LIMP/FAXINEIRO/SERV GERAIS 44HR INSALUBRE 20% | C10: 1 | D10: 1 | E10: 220 | F10: 8H | G10: 1137.23 | H10: ='AUXILIAR DE LIMPEZA S INS'!H86:J86 -> 4428.077 | I10: =(H10/210)+50% -> 21.586081 | J10: 0 | K10: =J10*I10 -> 0 | L10: =H10+K10 -> 4428.077
A11: 10 | B11: AUX DE LIMP/FAXINEIRO/SERV GERAIS 44HR INSALUBRE 40% | C11: 1 | D11: 1 | E11: 220 | F11: 8H | G11: 1137.23 | H11: ='AUXILIAR DE LIMPEZA C IN 40'!H86:J86 -> 4847.0659 | I11: =(H11/210)+50% -> 23.581266 | J11: 0 | K11: =J11*I11 -> 0 | L11: =H11+K11 -> 4847.0659
A12: 11 | B12: AUX DE LIMP/FAXINEIRO/SERV GERAIS 12X36 DIA SEM INSAL | C12: 1 | D12: 1 | E12: 180 | F12: 12X36 | G12: 1137.23 | H12: ='AUX LIM 12X36 S INS'!H86:J86 -> 3688.7469 | I12: =(H12/210)+50% -> 18.065462 | J12: 0 | K12: =J12*I12 -> 0 | L12: =H12+K12 -> 3688.7469
A13: 12 | B13: AUX DE LIMP/FAXINEIRO/SERV GERAIS 12X36 DIA COM 20% INSAL | C13: 1 | D13: 1 | E13: 180 | F13: 12X36 | G13: 1137.23 | H13: ='AUX LIM 12X36 C INS 20%'!H86:J86 -> 4107.7358 | I13: =(H13/210)+50% -> 20.060646 | J13: 0 | K13: =J13*I13 -> 0 | L13: =H13+K13 -> 4107.7358
A14: 13 | B14: AUX DE LIMP/FAXINEIRO/SERV GERAIS 12X36 DIA COM 40% INSAL | C14: 1 | D14: 1 | E14: 180 | F14: 12X36 | G14: 1137.23 | H14: ='AUX LIM 12X36 C INS 40%'!H86:J86 -> 4526.7246 | I14: =(H14/210)+50% -> 22.055831 | J14: 0 | K14: =J14*I14 -> 0 | L14: =H14+K14 -> 4526.7246
A15: 14 | B15: AUX DE LIMP/FAXINEIRO/SERV GERAIS 12X36 NOITE SEM INSAL | C15: 1 | D15: 1 | E15: 180 | F15: 12X36 | G15: 1137.23 | H15: ='AUX LIM 12X36 N SEM INS'!H86:J86 -> 4069.7799 | I15: =(H15/210)+50% -> 19.879904 | J15: 0 | K15: =J15*I15 -> 0 | L15: =H15+K15 -> 4069.7799
A16: 15 | B16: AUX DE LIMP/FAXINEIRO/SERV GERAIS 12X36 NOITE COM 20% INSAL | C16: 1 | D16: 1 | E16: 180 | F16: 12X36 | G16: 1137.23 | H16: ='AUX LIM 12X36 N COM 20%'!H86:J86 -> 4558.795 | I16: =(H16/210)+50% -> 22.208547 | J16: 0 | K16: =J16*I16 -> 0 | L16: =H16+K16 -> 4558.795
A17: 16 | B17: AUX DE LIMP/FAXINEIRO/SERV GERAIS 12X36 NOITE COM 40% INSAL | C17: 1 | D17: 1 | E17: 180 | F17: 12X36 | G17: 1137.23 | H17: ='AUX LIM 12X36 N COM 40%'!H86:J86 -> 5047.81 | I17: =(H17/210)+50% -> 24.53719 | J17: 0 | K17: =J17*I17 -> 0 | L17: =H17+K17 -> 5047.81
A18: 17 | B18: VARREDEIRA/GARI/OPERADOR DE ROÇADEIRA/CARRINHEIRO | C18: 1 | D18: 1 | E18: 220 | F18: 7,20H | G18: 1079.94 | H18: ='GARI-VARREDEIRA-CARRINHEIRO'!H86 -> 4813.9415 | I18: =(H18/210)+50% -> 23.423531 | J18: 0 | K18: =J18*I18 -> 0 | L18: =H18+K18 -> 4813.9415
A19: 18 | B19: COLETOR DE LIXO 44 HR | C19: 1 | D19: 1 | E19: 220 | F19: 7,20H | G19: 1245.81 | H19: ='COLETOR DE LIXO'!H86:J86 -> 5024.1508 | I19: =(H19/210)+50% -> 24.424527 | J19: 0 | K19: =J19*I19 -> 0 | L19: =H19+K19 -> 5024.1508
A20: 19 | B20: AGENTE DE FISCALIZAÇÃO DE RUA 44HR | C20: 1 | D20: 1 | E20: 220 | F20: 7,20H | G20: 1293.21 | H20: ='AGENTE DE FISCALIZAÇÃO DE RUA'!H86:J86 -> 4277.9388 | I20: =(H20/210)+50% -> 20.871137 | J20: 0 | K20: =J20*I20 -> 0 | L20: =H20+K20 -> 4277.9388
A21: 20 | B21: JARDINEIRO 44HR | C21: 1 | D21: 1 | E21: 220 | F21: 8H | G21: 1504.26 | H21: =JARDINEIRO!H86 -> 4719.6527 | I21: =(H21/210)+50% -> 22.974537 | J21: 0 | K21: =J21*I21 -> 0 | L21: =H21+K21 -> 4719.6527
A22: 21 | B22: CONTINUO 44 HR | C22: 1 | D22: 1 | E22: 220 | F22: 8H | G22: 1137.23 | H22: =CONTINUO!H86 -> 3978.0289 | I22: =(H22/210)+50% -> 19.442995 | J22: 0 | K22: =J22*I22 -> 0 | L22: =H22+K22 -> 3978.0289
A23: 22 | B23: TECNICO DE RX/RADIOLOGIA DIA | C23: 1 | D23: 1 | E23: 96 | F23: 12H | G23: 1691 | H23: ='TECNICO RX'!H86:J86 -> 5634.5079 | I23: =(H23/210)+80% -> 27.63099 | J23: 0 | K23: =J23*I23 -> 0 | L23: =H23+K23 -> 5634.5079
A24: 23 | B24: TECNICO DE RX/RADIOLOGIA NOITE | C24: 1 | D24: 1 | E24: 96 | F24: 12H | G24: 1691 | H24: ='TECNICO RX NOITE'!H86:J86 -> 6474.346 | I24: =(H24/210)+80% -> 31.630219 | J24: 0 | K24: =J24*I24 -> 0 | L24: =H24+K24 -> 6474.346
A25: 24 | B25: TELEFONISTA 36HR | C25: 1 | D25: 1 | E25: 180 | F25: 6H | G25: 1832.78 | H25: ='TELEFONISTA '!H86:J86 -> 4665.1316 | I25: =(H25/210)+50% -> 22.714912 | J25: 0 | K25: =J25*I25 -> 0 | L25: =H25+K25 -> 4665.1316
A26: 25 | B26: MONITOR DE TRANSPORTES/CRECHE/ESCOLA | C26: 1 | D26: 1 | E26: 220 | F26: 8H | G26: =1054 -> 1054 | H26: ='MONITOR DE TRANSPORTES'!H86:J86 -> 3662.3252 | I26: =(H26/E26)+75% -> 17.396933 | J26: 0 | K26: =J26*I26 -> 0 | L26: =H26+K26 -> 3662.3252
A27: 26 | B27: MOTORISTA DE CAMINHÃO | C27: 1 | D27: 1 | E27: 220 | F27: 8H | G27: 1865.86 | H27: ='MOTORISTA DE CAMINHÃO'!H86:J86 -> 5288.9061 | I27: =(H27/E27)+60% -> 24.640482 | J27: 0 | K27: =J27*I27 -> 0 | L27: =H27+K27 -> 5288.9061
A28: 27 | B28: MOTORISTA DE ÔNIBUS ESCOLAR/MICROONIBUS ESCOLAR | C28: 1 | D28: 1 | E28: 220 | F28: 8H | G28: 2719.91 | H28: ='MOTORISTA DE ÔNIBUS'!H86:J86 -> 7426.7387 | I28: =(H28/E28)+60% -> 34.357903 | J28: 0 | K28: =J28*I28 -> 0 | L28: =H28+K28 -> 7426.7387
A29: 28 | B29: MOTORISTA DE CARRO ATE 7 LUGARES | C29: 1 | D29: 1 | E29: 220 | F29: 8H | G29: 1832.02 | H29: ='MOTORISTA DE CARRO'!H86:J86 -> 5190.7889 | I29: =(H29/E29)+60% -> 24.194495 | J29: 0 | K29: =J29*I29 -> 0 | L29: =H29+K29 -> 5190.7889
A30: 29 | B30: MOTORISTA AMBULANCIA 12X36 DIA | C30: 1 | D30: 1 | E30: 180 | F30: 12X36 | G30: 2719.91 | H30: ='MOTORISTA DE AMBULANCIA'!H86:J86 -> 8127.6991 | I30: =(H30/E30)+60% -> 45.753884 | J30: 0 | K30: =J30*I30 -> 0 | L30: =H30+K30 -> 8127.6991
A31: 30 | B31: MOTORISTA AMBULANCIA 12X36 NOITE | C31: 1 | D31: 1 | E31: 180 | F31: 12X36 | G31: 2719.91 | H31: ='MOTORISTA DE AMBULANCIA NOITE'!H86:J86 -> 9179.0673 | I31: =(H31/E31)+60% -> 51.594818 | J31: 0 | K31: =J31*I31 -> 0 | L31: =H31+K31 -> 9179.0673
A32: 31 | B32: PORTEIRO 44HR | C32: 1 | D32: 1 | E32: 220 | F32: 8H | G32: 1398.79 | H32: =PORTEIRO!H86 -> 4495.1113 | I32: =(H32/E32)+50% -> 20.932324 | J32: 0 | K32: =J32*I32 -> 0 | L32: =H32+K32 -> 4495.1113
A33: 32 | B33: PORTEIRO 12 X 36 DIURNO | C33: 1 | D33: 1 | E33: 180 | F33: 12X36 | G33: 1398.79 | H33: ='PORTEIRO 12x36'!H86:J86 -> 4167.9971 | I33: =(H33/E33)+50% -> 23.65554 | J33: 0 | K33: =J33*I33 -> 0 | L33: =H33+K33 -> 4167.9971
A34: 33 | B34: PORTEIRO 12 X 36 NOTURNO | C34: 1 | D34: 1 | E34: 180 | F34: 12X36 | G34: 1398.79 | H34: ='PORTEIRO NOTURNO12X36'!H86:J86 -> 4890.6036 | I34: =(H34/E34)+50% -> 27.67002 | J34: 0 | K34: =J34*I34 -> 0 | L34: =H34+K34 -> 4890.6036
A35: 34 | B35: FARMACEUTICO 40HR | C35: 1 | D35: 1 | E35: 200 | F35: 8H | G35: 4314.76 | H35: =FARMACEUTICO!H86 -> 9452.9595 | I35: =(H35/E35)+50% -> 47.764798 | J35: 0 | K35: =J35*I35 -> 0 | L35: =H35+K35 -> 9452.9595
A36: 35 | B36: TECNICO LABORATORIO 44HR | C36: 1 | D36: 1 | E36: 220 | F36: 8H | G36: 1252.64 | H36: ='TECNICO LABORATORIO'!H86:J86 -> 3800.102 | I36: =(H36/E36)+75% -> 18.023191 | J36: 0 | K36: =J36*I36 -> 0 | L36: =H36+K36 -> 3800.102
A37: 36 | B37: TECNICO LABORATORIO 12X36 DIA | C37: 1 | D37: 1 | E37: 180 | F37: 12X36 | G37: 1252.64 | H37: ='TECNICO LAB 12X36'!H86:J86 -> 3715.2001 | I37: =(H37/E37)+75% -> 21.39 | J37: 0 | K37: =J37*I37 -> 0 | L37: =H37+K37 -> 3715.2001
A38: 37 | B38: TECNICO LABORATORIO 12X36 NOITE | C38: 1 | D38: 1 | E38: 180 | F38: 12X36 | G38: 1252.64 | H38: ='TECNICO LAB 12X36 N'!H87:J87 -> 4419.2054 | I38: =(H38/E38)+75% -> 25.301141 | J38: 0 | K38: =J38*I38 -> 0 | L38: =H38+K38 -> 4419.2054
A39: 38 | B39: ENFERMEIRO 12X36 DIA | C39: 1 | D39: 1 | E39: 180 | F39: 12X36 | G39: 2079.8 | H39: ='ENFERMEIRO DIURNO'!H86:J86 -> 6023.0546 | I39: =(H39/E39)+100% -> 34.461415 | J39: 0 | K39: =J39*I39 -> 0 | L39: =H39+K39 -> 6023.0546
A40: 39 | B40: ENFERMEIRO 12X36 NOITE | C40: 1 | D40: 1 | E40: 180 | F40: 12X36 | G40: 2079.8 | H40: ='ENFERMEIRO NOITE'!H86:J86 -> 7114.6909 | I40: =(H40/E40)+100% -> 40.52606 | J40: 0 | K40: =J40*I40 -> 0 | L40: =H40+K40 -> 7114.6909
...

Sheet PROPOSTA DE PREÇOS
A1: ANEXO IV - PLANILHA DE COMPOSIÇÃO DE CUSTOS E VALORES PARA PROPOSTA DE PREÇOS
A2: Nº do Processo
A3: Licitação Nº
A4: Data
A5: Município/UF
A6: Ano do Acordo ou da Convenção Coletiva ou Sentença Normativa ou Dissídio Coletivo
A7: Quantidade de Meses da Execução Contratual
A9: CARGO
A11: COMPOSIÇÃO DE CUSTOS E VALORES PARA A PROPOSTA DE PREÇOS
A12: MÓDULO 1 - COMPOSIÇÃO DA REMUNERAÇÃO *
A13: * Valor mensal devido ao empregado pela prestação do serviço no período de 12 meses
A14: A | B14: Salário-base
A15: B | B15: Adicional de Periculosidade
A16: C | B16: Adicional Noturno
A17: D | B17: Adicional de Hora Noturna Reduzida
A18: E | B18: Outros (especificar)
A19: F | B19: Adicional de Insalubridade (Ver grau de ins. 10%, 20% ou 40% Sobre o salário mínimo)
A20: TOTAL
A21: Incidência dos encargos do Submódulo 2.2 sobre a composição da remuneração
A23: MÓDULO 2 - ENCARGOS E BENEFÍCIOS ANUAIS, MENSAIS E DIÁRIOS
A24: SUBMÓDULO 2.1 - 13º SALÁRIO, FÉRIAS E ADICIONAL DE FÉRIAS
A25: A | B25: 13º Salário | E25: 0.0833
A26: B | B26: Férias e Adicional de férias | E26: 0.121
A27: TOTAL | H27: =SUM(H25:J26) -> 0
A28: C | B28: Incidências dos encargos do submódulo 2.2 sobre o 13º salário, férias e adicional de férias | E28: 0.0782
A29: SUBMÓDULO 2.2 - ENCARGOS PREVIDENCIÁRIOS (GPS), FUNDO DE GARANTIA POR TEMPO DE SERVIÇO (FGTS) E OUTRAS CONTRIBUIÇÕES *
A30: A | C30: INSS | E30: 0.2
A31: B | C31: Salário Educação | E31: 0.025
A32: C | C32: SAT | E32: 0.01
A33: D | C33: SESC ou SESI | E33: 0.015
A34: E | C34: SENAI - SENAC | E34: 0.01
A35: F | C35: SEBRAE | E35: 0.006
A36: G | C36: INCRA | E36: 0.002
A37: H | C37: FGTS | E37: 0.08
A38: TOTAL | E38: =SUM(E30:G37) -> 0.348
A39: SUBMÓDULO 2.3 - BENEFÍCIOS MENSAIS E DIÁRIOS **
A40: A | C40: Transporte
A41: B | C41: Auxílio-Refeição/Alimentação
A42: C | C42: Assistência médica e familiar
A43: D | C43: Outros (especificar)
...

Sheet REG. DE TRIBUTAÇÃO
B4: * SIMPLES NACIONAL *
B5: SUBMÓDULO 2.2 - ENCARGOS PREVIDENCIÁRIOS (GPS), FUNDO DE GARANTIA POR TEMPO DE SERVIÇO (FGTS) E OUTRAS CONTRIBUIÇÕES
B6: A | D6: INSS | F6: 0.2
B7: B | D7: Salário Educação
B8: C | D8: SAT | F8: 0.01
B9: D | D9: SESC ou SESI
B10: E | D10: SENAI - SENAC
B11: F | D11: SEBRAE
B12: G | D12: INCRA
B13: H | D13: FGTS | F13: 0.08
B14: TOTAL | F14: =SUM(F6:H13) -> 0.29
B16: ** LUCRO PRESUMIDO **
B17: MÓDULO 6 - CUSTOS INDIRETOS, TRIBUTOS E LUCRO ****
B18: A | D18: Custos indiretos | F18: 0.07
B19: B | D19: Lucro | F19: 0.1
B20: C | D20: Tributos | F20: 0.9135
B21: D | D21: Tributos Federais (PIS) | F21: 0.0065
B22: D | D22: Tributos Federais (COFINS) | F22: 0.03
B23: E | D23: Tributos Estaduais (ICMS)
B24: F | D24: Tributos Estaduais (ISS) | F24: 0.05
B25: TOTAL
B27: ** SIMPLES NACIONAL **
B28: MÓDULO 6 - CUSTOS INDIRETOS, TRIBUTOS E LUCRO
B29: A | D29: Custos indiretos | F29: 0.07
B30: B | D30: Lucro | F30: 0.1
B31: C | D31: Tributos | F31: 0.9252
B32: D | D32: Tributos Federais (PIS) | F32: 0.0047
B33: D | D33: Tributos Federais (COFINS) | F33: 0.0218
B34: E | D34: Tributos Estaduais (ICMS)
B35: F | D35: Tributos Estaduais (ISS) | F35: 0.0483
B36: TOTAL
B38: Empresas de cessão de mão de obra não podem usar o Simples Nacional como regime de tributação, na conformidade com os termos do mencionado art. 15 inciso XXI, da Resolução CGNS nª 140/2018, a empresa que realize cessão ou locação de mão de obra não poderá recolher os tributos pelo SIMPLES NACIONAL.

Sheet AUXILIAR ADMINISTRATIVO
A1: ANEXO I - PLANILHA DE VALORES E CUSTOS DOS POSTOS
A2: CARGO | D2: AUXILIAR ADMINISTRATIVO 44 HORAS SEMANAIS
A4: MÓDULO 1 - COMPOSIÇÃO DA REMUNERAÇÃO *
A5: * Valor mensal devido ao empregado pela prestação do serviço no período de 12 meses
A6: A | B6: Salário-base | E6: 1589.96
A7: B | B7: Adicional de Periculosidade
A8: C | B8: Adicional Noturno
A9: D | B9: Adicional de Hora Noturna Reduzida
A10: E | B10: Outros (especificar)
A11: F | B11: Adicional de Insalubridade (Ver grau de ins. 10%, 20% ou 40% Sobre o salário mínimo)
A12: TOTAL DO MÓDULO 1 | E12: =SUM(E6:J11) -> 1589.96
A13: Incidência dos encargos do Submódulo 2.2 sobre a composição da remuneração | E13: =E12*E30 -> 585.10528
A15: MÓDULO 2 - ENCARGOS E BENEFÍCIOS ANUAIS, MENSAIS E DIÁRIOS
A16: SUBMÓDULO 2.1 - 13º SALÁRIO, FÉRIAS E ADICIONAL DE FÉRIAS PAGAMENTO POR FATO GERADOR
A17: A | B17: 13º Salário | E17: 0.0833 | H17: =E17*E12 -> 132.44367
A18: B | B18: Férias e Adicional de férias | E18: 0.121 | H18: =E18*E12 -> 192.38516
A19: TOTAL | H19: =SUM(H17:J18) -> 324.82883
A20: C | B20: Incidências dos encargos do submódulo 2.2 sobre o 13º salário, férias e adicional de férias | E20: 0.0782 | H20: =E12*E20 -> 124.33487
A21: SUBMÓDULO 2.2 - ENCARGOS PREVIDENCIÁRIOS (GPS), FUNDO DE GARANTIA POR TEMPO DE SERVIÇO (FGTS) E OUTRAS CONTRIBUIÇÕES *
A22: A | C22: INSS | E22: 0.2 | H22: =E22*(E12+H19) -> 382.95777
A23: B | C23: Salário Educação | E23: 0.025 | H23: =E23*(E12+H19) -> 47.869721
A24: C | C24: SAT | E24: 0.03 | H24: =E24*(E12+H19) -> 57.443665
A25: D | C25: SESC ou SESI | E25: 0.015 | H25: =E25*(E12+H19) -> 28.721832
A26: E | C26: SENAI - SENAC | E26: 0.01 | H26: =E26*(E12+H19) -> 19.147888
A27: F | C27: SEBRAE | E27: 0.006 | H27: =E27*(E12+H19) -> 11.488733
A28: G | C28: INCRA | E28: 0.002 | H28: =E28*(E12+H19) -> 3.8295777
A29: H | C29: FGTS | E29: 0.08 | H29: =E29*(E12+H19) -> 153.18311
A30: TOTAL | E30: =SUM(E22:G29) -> 0.368 | H30: =SUM(H22:J29) -> 704.64229
A31: SUBMÓDULO 2.3 - BENEFÍCIOS MENSAIS E DIÁRIOS **
A32: A | C32: Transporte | H32: =(3.9*2*25.5)-6%*E6 -> 103.5024
A33: B | C33: Auxílio-Refeição/Alimentação | H33: =21.63*25.5-20% -> 551.365
A34: C | C34: Assistência médica e familiar | H34: 36.57
A35: D | C35: Outros Especificar | H35: 25.95
A36: TOTAL | H36: =SUM(H32:J35) -> 717.3874
A37: TOTAL DO MÓDULO 2 | E37: =H19+H30+H36 -> 1746.8585
A39: MÓDULO 3 - PROVISÃO PARA RESCISÃO - PAGAMENTO POR FATO GERADOR
A40: A | C40: Aviso-prévio indenizado | H40: =E12/12*5% -> 6.6248333
A41: B | C41: Incidência do FGTS sobre aviso-prévio indenizado | H41: =H40*8% -> 0.52998667
A42: C | C42: Multa sobre FGTS e contribuições sociais sobre aviso-prévio indenizado | H42: =E42*E12 -> 0
A43: D | C43: Aviso-prévio trabalhado | H43: =E12/30/12*7*100% -> 30.915889
...

Sheet AUX ADM 12X36 DIURNO
A1: ANEXO I - PLANILHA DE VALORES E CUSTOS DOS POSTOS
A2: CARGO | D2: AUXILIAR ADMINISTRATIVO (12x36) HORAS - DIURNO
A4: MÓDULO 1 - COMPOSIÇÃO DA REMUNERAÇÃO *
A5: * Valor mensal devido ao empregado pela prestação do serviço no período de 12 meses
A6: A | B6: Salário-base | E6: 1589.96
A7: B | B7: Adicional de Periculosidade
A8: C | B8: Adicional Noturno
A9: D | B9: Adicional de Hora Noturna Reduzida
A10: E | B10: Outros (especificar)
A11: F | B11: Adicional de Insalubridade (Ver grau de ins. 10%, 20% ou 40% Sobre o salário mínimo)
A12: TOTAL MÓDULO 1 | E12: =SUM(E6:J11) -> 1589.96
A13: Incidência dos encargos do Submódulo 2.2 sobre a composição da remuneração | E13: =E12*E30 -> 585.10528
A15: MÓDULO 2 - ENCARGOS E BENEFÍCIOS ANUAIS, MENSAIS E DIÁRIOS
A16: SUBMÓDULO 2.1 - 13º SALÁRIO, FÉRIAS E ADICIONAL DE FÉRIAS - PAGAMENTO POR FATO GERADOR
A17: A | B17: 13º Salário | E17: 0.0833 | H17: =E17*E12 -> 132.44367
A18: B | B18: Férias e Adicional de férias | E18: 0.121 | H18: =E18*E12 -> 192.38516
A19: TOTAL | H19: =SUM(H17:J18) -> 324.82883
A20: C | B20: Incidências dos encargos do submódulo 2.2 sobre o 13º salário, férias e adicional de férias | E20: 0.0782 | H20: =E12*E20 -> 124.33487
A21: SUBMÓDULO 2.2 - ENCARGOS PREVIDENCIÁRIOS (GPS), FUNDO DE GARANTIA POR TEMPO DE SERVIÇO (FGTS) E OUTRAS CONTRIBUIÇÕES *
A22: A | C22: INSS | E22: 0.2 | H22: =E22*(E12+H19) -> 382.95777
A23: B | C23: Salário Educação | E23: 0.025 | H23: =E23*(E12+H19) -> 47.869721
A24: C | C24: SAT | E24: 0.03 | H24: =E24*(E12+H19) -> 57.443665
A25: D | C25: SESC ou SESI | E25: 0.015 | H25: =E25*(E12+H19) -> 28.721832
A26: E | C26: SENAI - SENAC | E26: 0.01 | H26: =E26*(E12+H19) -> 19.147888
A27: F | C27: SEBRAE | E27: 0.006 | H27: =E27*(E12+H19) -> 11.488733
A28: G | C28: INCRA | E28: 0.002 | H28: =E28*(E12+H19) -> 3.8295777
A29: H | C29: FGTS | E29: 0.08 | H29: =E29*(E12+H19) -> 153.18311
A30: TOTAL | E30: =SUM(E22:G29) -> 0.368 | H30: =SUM(H22:J29) -> 704.64229
A31: SUBMÓDULO 2.3 - BENEFÍCIOS MENSAIS E DIÁRIOS **
A32: A | C32: Transporte | H32: =(3.9*2*16)-6%*E6 -> 29.4024
A33: B | C33: Auxílio-Refeição/Alimentação | H33: =21.63*16-20% -> 345.88
A34: C | C34: Assistência médica e familiar | H34: 36.57
A35: D | C35: Outros Especificar | H35: 25.95
A36: TOTAL | H36: =SUM(H32:J35) -> 437.8024
A37: TOTAL DO MÓDULO 2 | E37: =H19+H30+H36 -> 1467.2735
A39: MÓDULO 3 - PROVISÃO PARA RESCISÃO - PAGAMENTO POR FATO GERADOR
A40: A | C40: Aviso-prévio indenizado | H40: =E12/12*5% -> 6.6248333
A41: B | C41: Incidência do FGTS sobre aviso-prévio indenizado | H41: =H40*8% -> 0.52998667
A42: C | C42: Multa sobre FGTS e contribuições sociais sobre aviso-prévio indenizado | H42: =E42*E12 -> 0
A43: D | C43: Aviso-prévio trabalhado | H43: =E12/30/12*7*100% -> 30.915889
...

Sheet RECEPCIONISTA 44
A1: ANEXO I - PLANILHA DE VALORES E CUSTOS DOS POSTOS
A2: CARGO | D2: RECEPCIONISTA 44H SEMANAIS
A4: MÓDULO 1 - COMPOSIÇÃO DA REMUNERAÇÃO *
A5: * Valor mensal devido ao empregado pela prestação do serviço no período de 12 meses
A6: A | B6: Salário-base | E6: 1855.15
A7: B | B7: Adicional de Periculosidade
A8: C | B8: Adicional Noturno
A9: D | B9: Adicional de Hora Noturna Reduzida
A10: E | B10: Outros (especificar)
A11: F | B11: Adicional de Insalubridade (Ver grau de ins. 10%, 20% ou 40% Sobre o salário mínimo)
A12: TOTAL MODULO 1 | E12: =SUM(E6:J11) -> 1855.15
A13: Incidência dos encargos do Submódulo 2.2 sobre a composição da remuneração | E13: =E12*E30 -> 682.6952
A15: MÓDULO 2 - ENCARGOS E BENEFÍCIOS ANUAIS, MENSAIS E DIÁRIOS
A16: SUBMÓDULO 2.1 - 13º SALÁRIO, FÉRIAS E ADICIONAL DE FÉRIAS PAGAMENTO POR FATO GERADOR
A17: A | B17: 13º Salário | E17: 0.0833 | H17: =E17*E12 -> 154.534
A18: B | B18: Férias e Adicional de férias | E18: 0.121 | H18: =E18*E12 -> 224.47315
A19: TOTAL | H19: =SUM(H17:J18) -> 379.00715
A20: C | B20: Incidências dos encargos do submódulo 2.2 sobre o 13º salário, férias e adicional de férias | E20: 0.0782 | H20: =E12*E20 -> 145.07273
A21: SUBMÓDULO 2.2 - ENCARGOS PREVIDENCIÁRIOS (GPS), FUNDO DE GARANTIA POR TEMPO DE SERVIÇO (FGTS) E OUTRAS CONTRIBUIÇÕES *
A22: A | C22: INSS | E22: 0.2 | H22: =E22*(E12+H19) -> 446.83143
A23: B | C23: Salário Educação | E23: 0.025 | H23: =E23*(E12+H19) -> 55.853929
A24: C | C24: SAT | E24: 0.03 | H24: =E24*(E12+H19) -> 67.024714
A25: D | C25: SESC ou SESI | E25: 0.015 | H25: =E25*(E12+H19) -> 33.512357
A26: E | C26: SENAI - SENAC | E26: 0.01 | H26: =E26*(E12+H19) -> 22.341571
A27: F | C27: SEBRAE | E27: 0.006 | H27: =E27*(E12+H19) -> 13.404943
A28: G | C28: INCRA | E28: 0.002 | H28: =E28*(E12+H19) -> 4.4683143
A29: H | C29: FGTS | E29: 0.08 | H29: =E29*(E12+H19) -> 178.73257
A30: TOTAL | E30: =SUM(E22:G29) -> 0.368 | H30: =SUM(H22:J29) -> 822.16983
A31: SUBMÓDULO 2.3 - BENEFÍCIOS MENSAIS E DIÁRIOS **
A32: A | C32: Transporte | H32: =(3.9*2*25.5)-6%*E6 -> 87.591
A33: B | C33: Auxílio-Refeição/Alimentação | H33: =21.63*25.5-20% -> 551.365
A34: C | C34: Assistência médica e familiar | H34: 36.57
A35: D | C35: Outros Especificar | H35: 25.95
A36: TOTAL | H36: =SUM(H32:J35) -> 701.476
A37: TOTAL DO MÓDULO 2 | E37: =H19+H30+H36 -> 1902.653
A39: MÓDULO 3 - PROVISÃO PARA RESCISÃO - PAGAMENTO POR FATO GERADOR
A40: A | C40: Aviso-prévio indenizado | H40: =E12/12*5% -> 7.7297917
A41: B | C41: Incidência do FGTS sobre aviso-prévio indenizado | H41: =H40*8% -> 0.61838333
A42: C | C42: Multa sobre FGTS e contribuições sociais sobre aviso-prévio indenizado | H42: =E42*E12 -> 0
A43: D | C43: Aviso-prévio trabalhado | H43: =E12/30/12*7*100% -> 36.072361
...

Sheet RECEPCIONISTA 12X36
A1: ANEXO I - PLANILHA DE VALORES E CUSTOS DOS POSTOS
A2: CARGO | D2: RECEPCIONISTA (12x36)HORAS - DIURNO
A4: MÓDULO 1 - COMPOSIÇÃO DA REMUNERAÇÃO *
A5: * Valor mensal devido ao empregado pela prestação do serviço no período de 12 meses
A6: A | B6: Salário-base | E6: 1855.15
A7: B | B7: Adicional de Periculosidade
A8: C | B8: Adicional Noturno
A9: D | B9: Adicional de Hora Noturna Reduzida
A10: E | B10: Outros (especificar)
A11: F | B11: Adicional de Insalubridade (Ver grau de ins. 10%, 20% ou 40% Sobre o salário mínimo)
A12: TOTAL | E12: =SUM(E6:J11) -> 1855.15
A13: Incidência dos encargos do Submódulo 2.2 sobre a composição da remuneração | E13: =E12*E30 -> 682.6952
A15: MÓDULO 2 - ENCARGOS E BENEFÍCIOS ANUAIS, MENSAIS E DIÁRIOS
A16: SUBMÓDULO 2.1 - 13º SALÁRIO, FÉRIAS E ADICIONAL DE FÉRIAS PAGAMENTO POR FATO GERADOR
A17: A | B17: 13º Salário | E17: 0.0833 | H17: =E17*E12 -> 154.534
A18: B | B18: Férias e Adicional de férias | E18: 0.121 | H18: =E18*E12 -> 224.47315
A19: TOTAL | H19: =SUM(H17:J18) -> 379.00715
A20: C | B20: Incidências dos encargos do submódulo 2.2 sobre o 13º salário, férias e adicional de férias | E20: 0.0782 | H20: =E12*E20 -> 145.07273
A21: SUBMÓDULO 2.2 - ENCARGOS PREVIDENCIÁRIOS (GPS), FUNDO DE GARANTIA POR TEMPO DE SERVIÇO (FGTS) E OUTRAS CONTRIBUIÇÕES *
A22: A | C22: INSS | E22: 0.2 | H22: =E22*(E12+H19) -> 446.83143
A23: B | C23: Salário Educação | E23: 0.025 | H23: =E23*(E12+H19) -> 55.853929
A24: C | C24: SAT | E24: 0.03 | H24: =E24*(E12+H19) -> 67.024714
A25: D | C25: SESC ou SESI | E25: 0.015 | H25: =E25*(E12+H19) -> 33.512357
A26: E | C26: SENAI - SENAC | E26: 0.01 | H26: =E26*(E12+H19) -> 22.341571
A27: F | C27: SEBRAE | E27: 0.006 | H27: =E27*(E12+H19) -> 13.404943
A28: G | C28: INCRA | E28: 0.002 | H28: =E28*(E12+H19) -> 4.4683143
A29: H | C29: FGTS | E29: 0.08 | H29: =E29*(E12+H19) -> 178.73257
A30: TOTAL | E30: =SUM(E22:G29) -> 0.368 | H30: =SUM(H22:J29) -> 822.16983
A31: SUBMÓDULO 2.3 - BENEFÍCIOS MENSAIS E DIÁRIOS **
A32: A | C32: Transporte | H32: =(3.9*2*16)-6%*E6 -> 13.491
A33: B | C33: Auxílio-Refeição/Alimentação | H33: =21.63*16-20% -> 345.88
A34: C | C34: Assistência médica e familiar | H34: 36.57
A35: D | C35: Outros Especificar | H35: 25.95
A36: TOTAL | H36: =SUM(H32:J35) -> 421.891
A37: TOTAL DO MÓDULO 2 | E37: =H19+H30+H36 -> 1623.068
A39: MÓDULO 3 - PROVISÃO PARA RESCISÃO - PAGAMENTO POR FATO GERADOR
A40: A | C40: Aviso-prévio indenizado | H40: =E12/12*5% -> 7.7297917
A41: B | C41: Incidência do FGTS sobre aviso-prévio indenizado | H41: =H40*8% -> 0.61838333
A42: C | C42: Multa sobre FGTS e contribuições sociais sobre aviso-prévio indenizado | H42: =E42*E12 -> 0
A43: D | C43: Aviso-prévio trabalhado | H43: =E12/30/12*7*100% -> 36.072361
...

Sheet RECEPCIONISTA 12X36 N
A1: ANEXO I - PLANILHA DE VALORES E CUSTOS DOS POSTOS
A2: CARGO | D2: RECEPCIONISTA (12x36)HORAS - NOTURNO
A4: MÓDULO 1 - COMPOSIÇÃO DA REMUNERAÇÃO *
A5: * Valor mensal devido ao empregado pela prestação do serviço no período de 12 meses
A6: A | B6: Salário-base | E6: 1855.15
A7: B | B7: Adicional de Periculosidade
A8: C | B8: Adicional Noturno | E8: =(((E6/210)*20%)*9)*16 -> 254.42057
A9: D | B9: Adicional de Hora Noturna Reduzida | E9: =(((E6/210)*20%)*0.14)*16 -> 3.9576533
A10: E | B10: Descanso Semanal Remunerado | E10: =((E8+E9)/25)*5 -> 51.675645
A11: F | B11: Adicional de Insalubridade (Ver grau de ins. 10%, 20% ou 40% Sobre o salário mínimo)
A12: TOTAL MODULO 1 | E12: =SUM(E6:J11) -> 2165.2039
A13: Incidência dos encargos do Submódulo 2.2 sobre a composição da remuneração | E13: =E12*E30 -> 796.79502
A15: MÓDULO 2 - ENCARGOS E BENEFÍCIOS ANUAIS, MENSAIS E DIÁRIOS
A16: SUBMÓDULO 2.1 - 13º SALÁRIO, FÉRIAS E ADICIONAL DE FÉRIAS - PAGAMENTO POR FATO GERADOR
A17: A | B17: 13º Salário | E17: 0.0833 | H17: =E17*E12 -> 180.36148
A18: B | B18: Férias e Adicional de férias | E18: 0.121 | H18: =E18*E12 -> 261.98967
A19: TOTAL | H19: =SUM(H17:J18) -> 442.35115
A20: C | B20: Incidências dos encargos do submódulo 2.2 sobre o 13º salário, férias e adicional de férias | E20: 0.0782 | H20: =E12*E20 -> 169.31894
A21: SUBMÓDULO 2.2 - ENCARGOS PREVIDENCIÁRIOS (GPS), FUNDO DE GARANTIA POR TEMPO DE SERVIÇO (FGTS) E OUTRAS CONTRIBUIÇÕES *
A22: A | C22: INSS | E22: 0.2 | H22: =E22*(E12+H19) -> 521.511
A23: B | C23: Salário Educação | E23: 0.025 | H23: =E23*(E12+H19) -> 65.188876
A24: C | C24: SAT | E24: 0.03 | H24: =E24*(E12+H19) -> 78.226651
A25: D | C25: SESC ou SESI | E25: 0.015 | H25: =E25*(E12+H19) -> 39.113325
A26: E | C26: SENAI - SENAC | E26: 0.01 | H26: =E26*(E12+H19) -> 26.07555
A27: F | C27: SEBRAE | E27: 0.006 | H27: =E27*(E12+H19) -> 15.64533
A28: G | C28: INCRA | E28: 0.002 | H28: =E28*(E12+H19) -> 5.21511
A29: H | C29: FGTS | E29: 0.08 | H29: =E29*(E12+H19) -> 208.6044
A30: TOTAL | E30: =SUM(E22:G29) -> 0.368 | H30: =SUM(H22:J29) -> 959.58025
A31: SUBMÓDULO 2.3 - BENEFÍCIOS MENSAIS E DIÁRIOS **
A32: A | C32: Transporte | H32: =(3.9*2*16)-6%*E6 -> 13.491
A33: B | C33: Auxílio-Refeição/Alimentação | H33: =21.63*16-20% -> 345.88
A34: C | C34: Assistência médica e familiar | H34: 36.57
A35: D | C35: Outros Especificar | H35: 25.95
A36: TOTAL | H36: =SUM(H32:J35) -> 421.891
A37: TOTAL DO MÓDULO 2 | E37: =H19+H30+H36 -> 1823.8224
A39: MÓDULO 3 - PROVISÃO PARA RESCISÃO - PAGAMENTO POR FATO GERADOR
A40: A | C40: Aviso-prévio indenizado | H40: =E12/12*5% -> 9.0216828
A41: B | C41: Incidência do FGTS sobre aviso-prévio indenizado | H41: =H40*8% -> 0.72173462
A42: C | C42: Multa sobre FGTS e contribuições sociais sobre aviso-prévio indenizado | H42: =E42*E12 -> 0
A43: D | C43: Aviso-prévio trabalhado | H43: =E12/30/12*7*100% -> 42.101186
...

Sheet AUXILIAR DE COZINHA
A1: ANEXO I - PLANILHA DE VALORES E CUSTOS DOS POSTOS
A2: CARGO | D2: AUXILIAR DE COZINHA 44 HORAS SEMANAIS
A4: MÓDULO 1 - COMPOSIÇÃO DA REMUNERAÇÃO *
A5: * Valor mensal devido ao empregado pela prestação do serviço no período de 12 meses
A6: A | B6: Salário-base | E6: 1086.46
A7: B | B7: Adicional de Periculosidade
A8: C | B8: Adicional Noturno
A9: D | B9: Adicional de Hora Noturna Reduzida
A10: E | B10: Outros (especificar)
A11: F | B11: Adicional de Insalubridade (Ver grau de ins. 10%, 20% ou 40% Sobre o salário mínimo)
A12: TOTAL MODULO 1 | E12: =SUM(E6:J11) -> 1086.46
A13: Incidência dos encargos do Submódulo 2.2 sobre a composição da remuneração | E13: =E12*E30 -> 399.81728
A15: MÓDULO 2 - ENCARGOS E BENEFÍCIOS ANUAIS, MENSAIS E DIÁRIOS
A16: SUBMÓDULO 2.1 - 13º SALÁRIO, FÉRIAS E ADICIONAL DE FÉRIAS - PAGAMENTO POR FATO GERADOR
A17: A | B17: 13º Salário | E17: 0.0833 | H17: =E17*E12 -> 90.502118
A18: B | B18: Férias e Adicional de férias | E18: 0.121 | H18: =E18*E12 -> 131.46166
A19: TOTAL | H19: =SUM(H17:J18) -> 221.96378
A20: C | B20: Incidências dos encargos do submódulo 2.2 sobre o 13º salário, férias e adicional de férias | E20: 0.0782 | H20: =E12*E20 -> 84.961172
A21: SUBMÓDULO 2.2 - ENCARGOS PREVIDENCIÁRIOS (GPS), FUNDO DE GARANTIA POR TEMPO DE SERVIÇO (FGTS) E OUTRAS CONTRIBUIÇÕES *
A22: A | C22: INSS | E22: 0.2 | H22: =E22*(E12+H19) -> 261.68476
A23: B | C23: Salário Educação | E23: 0.025 | H23: =E23*(E12+H19) -> 32.710594
A24: C | C24: SAT | E24: 0.03 | H24: =E24*(E12+H19) -> 39.252713
A25: D | C25: SESC ou SESI | E25: 0.015 | H25: =E25*(E12+H19) -> 19.626357
A26: E | C26: SENAI - SENAC | E26: 0.01 | H26: =E26*(E12+H19) -> 13.084238
A27: F | C27: SEBRAE | E27: 0.006 | H27: =E27*(E12+H19) -> 7.8505427
A28: G | C28: INCRA | E28: 0.002 | H28: =E28*(E12+H19) -> 2.6168476
A29: H | C29: FGTS | E29: 0.08 | H29: =E29*(E12+H19) -> 104.6739
A30: TOTAL | E30: =SUM(E22:G29) -> 0.368 | H30: =SUM(H22:J29) -> 481.49995
A31: SUBMÓDULO 2.3 - BENEFÍCIOS MENSAIS E DIÁRIOS **
A32: A | C32: Transporte | H32: =(3.9*2*25.5)-6%*E6 -> 133.7124
A33: B | C33: Cesta Basica | H33: =156.45-(156.45*0.5%) -> 155.66775
C34: Auxilio Alimentação | H34: =(12.5*25.5)-20% -> 318.55
A35: C | C35: Assistência médica e familiar | H35: 105.05
A36: D | C36: Outros (especificar) | H36: 108.9
A37: TOTAL | H37: =SUM(H32:J36) -> 821.88015
A38: TOTAL DO MÓDULO 2 | E38: =H19+H30+H37 -> 1525.3439
A40: MÓDULO 3 - PROVISÃO PARA RESCISÃO - PAGAMENTO POR FATO GERADOR
A41: A | C41: Aviso-prévio indenizado | H41: =E12/12*5% -> 4.5269167
A42: B | C42: Incidência do FGTS sobre aviso-prévio indenizado | H42: =H41*8% -> 0.36215333
A43: C | C43: Multa sobre FGTS e contribuições sociais sobre aviso-prévio indenizado | H43: =E43*E12 -> 0
...

Sheet AUXILIAR DE COZINHA 12X36
A1: ANEXO I - PLANILHA DE VALORES E CUSTOS DOS POSTOS
A2: CARGO | D2: AUXILIAR DE COZINHA 44 HORAS SEMANAIS
A4: MÓDULO 1 - COMPOSIÇÃO DA REMUNERAÇÃO *
A5: * Valor mensal devido ao empregado pela prestação do serviço no período de 12 meses
A6: A | B6: Salário-base | E6: 1086.46
A7: B | B7: Adicional de Periculosidade
A8: C | B8: Adicional Noturno
A9: D | B9: Adicional de Hora Noturna Reduzida
A10: E | B10: Outros (especificar)
A11: F | B11: Adicional de Insalubridade (Ver grau de ins. 10%, 20% ou 40% Sobre o salário mínimo)
A12: TOTAL MODULO 1 | E12: =SUM(E6:J11) -> 1086.46
A13: Incidência dos encargos do Submódulo 2.2 sobre a composição da remuneração | E13: =E12*E30 -> 399.81728
A15: MÓDULO 2 - ENCARGOS E BENEFÍCIOS ANUAIS, MENSAIS E DIÁRIOS
A16: SUBMÓDULO 2.1 - 13º SALÁRIO, FÉRIAS E ADICIONAL DE FÉRIAS PAGAMENTO POR FATO GERADOR
A17: A | B17: 13º Salário | E17: 0.0833 | H17: =E17*E12 -> 90.502118
A18: B | B18: Férias e Adicional de férias | E18: 0.121 | H18: =E18*E12 -> 131.46166
A19: TOTAL | H19: =SUM(H17:J18) -> 221.96378
A20: C | B20: Incidências dos encargos do submódulo 2.2 sobre o 13º salário, férias e adicional de férias | E20: 0.0782 | H20: =E12*E20 -> 84.961172
A21: SUBMÓDULO 2.2 - ENCARGOS PREVIDENCIÁRIOS (GPS), FUNDO DE GARANTIA POR TEMPO DE SERVIÇO (FGTS) E OUTRAS CONTRIBUIÇÕES *
A22: A | C22: INSS | E22: 0.2 | H22: =E22*(E12+H19) -> 261.68476
A23: B | C23: Salário Educação | E23: 0.025 | H23: =E23*(E12+H19) -> 32.710594
A24: C | C24: SAT | E24: 0.03 | H24: =E24*(E12+H19) -> 39.252713
A25: D | C25: SESC ou SESI | E25: 0.015 | H25: =E25*(E12+H19) -> 19.626357
A26: E | C26: SENAI - SENAC | E26: 0.01 | H26: =E26*(E12+H19) -> 13.084238
A27: F | C27: SEBRAE | E27: 0.006 | H27: =E27*(E12+H19) -> 7.8505427
A28: G | C28: INCRA | E28: 0.002 | H28: =E28*(E12+H19) -> 2.6168476
A29: H | C29: FGTS | E29: 0.08 | H29: =E29*(E12+H19) -> 104.6739
A30: TOTAL | E30: =SUM(E22:G29) -> 0.368 | H30: =SUM(H22:J29) -> 481.49995
A31: SUBMÓDULO 2.3 - BENEFÍCIOS MENSAIS E DIÁRIOS **
A32: A | C32: Transporte | H32: =(3.9*2*16)-6%*E6 -> 59.6124
A33: B | C33: Cesta Basica | H33: =156.45-(156.45*0.5%) -> 155.66775
C34: Auxilio Alimentação | H34: =(12.5*16)-20% -> 199.8
A35: C | C35: Assistência médica e familiar | H35: 105.05
A36: D | C36: Outros (especificar) | H36: 108.9
A37: TOTAL | H37: =SUM(H32:J36) -> 629.03015
A38: TOTAL DO MÓDULO 2 | E38: =H19+H30+H37 -> 1332.4939
A40: MÓDULO 3 - PROVISÃO PARA RESCISÃO - PAGAMENTO POR FATO GERADOR
A41: A | C41: Aviso-prévio indenizado | H41: =E12/12*5% -> 4.5269167
A42: B | C42: Incidência do FGTS sobre aviso-prévio indenizado | H42: =H41*8% -> 0.36215333
A43: C | C43: Multa sobre FGTS e contribuições sociais sobre aviso-prévio indenizado | H43: =E43*E12 -> 0
...

Sheet AUXILIAR DE LIMPEZA
A1: ANEXO I - PLANILHA DE VALORES E CUSTOS DOS POSTOS
A2: CARGO | D2: AUXILIAR DE LIMPEZA 44 HORAS SEMANAIS SEM ADICIONAL DE INSALUBRIDADE
A4: MÓDULO 1 - COMPOSIÇÃO DA REMUNERAÇÃO *
A5: * Valor mensal devido ao empregado pela prestação do serviço no período de 12 meses
A6: A | B6: Salário-base | E6: 1137.23
A7: B | B7: Adicional de Periculosidade
A8: C | B8: Adicional Noturno
A9: D | B9: Adicional de Hora Noturna Reduzida
A10: E | B10: Outros (especificar)
A11: F | B11: Adicional de Insalubridade (Ver grau de ins. 10%, 20% ou 40% Sobre o salário mínimo)
A12: TOTAL MODULO 1 | E12: =SUM(E6:J11) -> 1137.23
A13: Incidência dos encargos do Submódulo 2.2 sobre a composição da remuneração | E13: =E12*E30 -> 418.50064
A15: MÓDULO 2 - ENCARGOS E BENEFÍCIOS ANUAIS, MENSAIS E DIÁRIOS
A16: SUBMÓDULO 2.1 - 13º SALÁRIO, FÉRIAS E ADICIONAL DE FÉRIAS PAGAMENTO POR FATO GERADOR
A17: A | B17: 13º Salário | E17: 0.0833 | H17: =E17*E12 -> 94.731259
A18: B | B18: Férias e Adicional de férias | E18: 0.121 | H18: =E18*E12 -> 137.60483
A19: TOTAL | H19: =SUM(H17:J18) -> 232.33609
A20: C | B20: Incidências dos encargos do submódulo 2.2 sobre o 13º salário, férias e adicional de férias | E20: 0.0782 | H20: =E12*E20 -> 88.931386
A21: SUBMÓDULO 2.2 - ENCARGOS PREVIDENCIÁRIOS (GPS), FUNDO DE GARANTIA POR TEMPO DE SERVIÇO (FGTS) E OUTRAS CONTRIBUIÇÕES *
A22: A | C22: INSS | E22: 0.2 | H22: =E22*(E12+H19) -> 273.91322
A23: B | C23: Salário Educação | E23: 0.025 | H23: =E23*(E12+H19) -> 34.239152
A24: C | C24: SAT | E24: 0.03 | H24: =E24*(E12+H19) -> 41.086983
A25: D | C25: SESC ou SESI | E25: 0.015 | H25: =E25*(E12+H19) -> 20.543491
A26: E | C26: SENAI - SENAC | E26: 0.01 | H26: =E26*(E12+H19) -> 13.695661
A27: F | C27: SEBRAE | E27: 0.006 | H27: =E27*(E12+H19) -> 8.2173965
A28: G | C28: INCRA | E28: 0.002 | H28: =E28*(E12+H19) -> 2.7391322
A29: H | C29: FGTS | E29: 0.08 | H29: =E29*(E12+H19) -> 109.56529
A30: TOTAL | E30: =SUM(E22:G29) -> 0.368 | H30: =SUM(H22:J29) -> 504.00032
A31: SUBMÓDULO 2.3 - BENEFÍCIOS MENSAIS E DIÁRIOS **
A32: A | C32: Transporte | H32: =(3.9*2*25.5)-6%*E6 -> 130.6662
A33: B | C33: Auxílio-Refeição/Alimentação | H33: =(21.63*25.5)-20% -> 551.365
A34: C | C34: Assistência médica e familiar | H34: 36.57
A35: D | C35: Outros (especificar) | H35: 25.95
A36: TOTAL | H36: =SUM(H32:J35) -> 744.5512
A37: TOTAL DO MÓDULO 2 | E37: =H19+H30+H36 -> 1480.8876
A39: MÓDULO 3 - PROVISÃO PARA RESCISÃO - PAGAMENTO POR FATO GERADOR
A40: A | C40: Aviso-prévio indenizado | H40: =E12/12*5% -> 4.7384583
A41: B | C41: Incidência do FGTS sobre aviso-prévio indenizado | H41: =H40*8% -> 0.37907667
A42: C | C42: Multa sobre FGTS e contribuições sociais sobre aviso-prévio indenizado | H42: =E42*E12 -> 0
A43: D | C43: Aviso-prévio trabalhado | H43: =E12/30/12*7*100% -> 22.112806
...

Sheet AUXILIAR DE LIMPEZA S INS
A1: ANEXO I - PLANILHA DE VALORES E CUSTOS DOS POSTOS
A2: CARGO | D2: AUXILIAR DE LIMPEZA 44 HORAS SEMANAIS COM ADICIONAL DE INSALUBRIDADE DE 20%
A4: MÓDULO 1 - COMPOSIÇÃO DA REMUNERAÇÃO *
A5: * Valor mensal devido ao empregado pela prestação do serviço no período de 12 meses
A6: A | B6: Salário-base | E6: 1137.23
A7: B | B7: Adicional de Periculosidade
A8: C | B8: Adicional Noturno
A9: D | B9: Adicional de Hora Noturna Reduzida
A10: E | B10: Outros (especificar)
A11: F | B11: Adicional de Insalubridade 20% | E11: =1045*20% -> 209
A12: TOTAL MODULO 1 | E12: =SUM(E6:J11) -> 1346.23
A13: Incidência dos encargos do Submódulo 2.2 sobre a composição da remuneração | E13: =E12*E30 -> 495.41264
A15: MÓDULO 2 - ENCARGOS E BENEFÍCIOS ANUAIS, MENSAIS E DIÁRIOS
A16: SUBMÓDULO 2.1 - 13º SALÁRIO, FÉRIAS E ADICIONAL DE FÉRIAS - PAGAMENTO POR FATO GERADOR
A17: A | B17: 13º Salário | E17: 0.0833 | H17: =E17*E12 -> 112.14096
A18: B | B18: Férias e Adicional de férias | E18: 0.121 | H18: =E18*E12 -> 162.89383
A19: TOTAL | H19: =SUM(H17:J18) -> 275.03479
A20: C | B20: Incidências dos encargos do submódulo 2.2 sobre o 13º salário, férias e adicional de férias | E20: 0.0782 | H20: =E12*E20 -> 105.27519
A21: SUBMÓDULO 2.2 - ENCARGOS PREVIDENCIÁRIOS (GPS), FUNDO DE GARANTIA POR TEMPO DE SERVIÇO (FGTS) E OUTRAS CONTRIBUIÇÕES *
A22: A | C22: INSS | E22: 0.2 | H22: =E22*(E12+H19) -> 324.25296
A23: B | C23: Salário Educação | E23: 0.025 | H23: =E23*(E12+H19) -> 40.53162
A24: C | C24: SAT | E24: 0.03 | H24: =E24*(E12+H19) -> 48.637944
A25: D | C25: SESC ou SESI | E25: 0.015 | H25: =E25*(E12+H19) -> 24.318972
A26: E | C26: SENAI - SENAC | E26: 0.01 | H26: =E26*(E12+H19) -> 16.212648
A27: F | C27: SEBRAE | E27: 0.006 | H27: =E27*(E12+H19) -> 9.7275887
A28: G | C28: INCRA | E28: 0.002 | H28: =E28*(E12+H19) -> 3.2425296
A29: H | C29: FGTS | E29: 0.08 | H29: =E29*(E12+H19) -> 129.70118
A30: TOTAL | E30: =SUM(E22:G29) -> 0.368 | H30: =SUM(H22:J29) -> 596.62544
A31: SUBMÓDULO 2.3 - BENEFÍCIOS MENSAIS E DIÁRIOS **
A32: A | C32: Transporte | H32: =(3.9*2*25.5)-6%*E6 -> 130.6662
A33: B | C33: Auxílio-Refeição/Alimentação | H33: =(21.63*25.5)-20% -> 551.365
A34: C | C34: Assistência médica e familiar | H34: 36.57
A35: D | C35: Outros (especificar) | H35: 25.95
A36: TOTAL | H36: =SUM(H32:J35) -> 744.5512
A37: TOTAL DO MÓDULO 2 | E37: =H19+H30+H36 -> 1616.2114
A39: MÓDULO 3 - PROVISÃO PARA RESCISÃO - PAGAMENTO POR FATO GERADOR
A40: A | C40: Aviso-prévio indenizado | H40: =E12/12*5% -> 5.6092917
A41: B | C41: Incidência do FGTS sobre aviso-prévio indenizado | H41: =H40*8% -> 0.44874333
A42: C | C42: Multa sobre FGTS e contribuições sociais sobre aviso-prévio indenizado | H42: =E42*E12 -> 0
A43: D | C43: Aviso-prévio trabalhado | H43: =E12/30/12*7*100% -> 26.176694
...

Sheet AUXILIAR DE LIMPEZA C IN 40
A1: ANEXO I - PLANILHA DE VALORES E CUSTOS DOS POSTOS
A2: CARGO | D2: AUXILIAR DE LIMPEZA 44 HORAS SEMANAIS COM ADICIONAL DE INSALUBRIDADE DE 40%
A4: MÓDULO 1 - COMPOSIÇÃO DA REMUNERAÇÃO *
A5: * Valor mensal devido ao empregado pela prestação do serviço no período de 12 meses
A6: A | B6: Salário-base | E6: 1137.23
A7: B | B7: Adicional de Periculosidade
A8: C | B8: Adicional Noturno
A9: D | B9: Adicional de Hora Noturna Reduzida
A10: E | B10: Outros (especificar)
A11: F | B11: Adicional de Insalubridade 40% | E11: =1045*40% -> 418
A12: TOTAL MODULO 1 | E12: =SUM(E6:J11) -> 1555.23
A13: Incidência dos encargos do Submódulo 2.2 sobre a composição da remuneração | E13: =E12*E30 -> 572.32464
A15: MÓDULO 2 - ENCARGOS E BENEFÍCIOS ANUAIS, MENSAIS E DIÁRIOS
A16: SUBMÓDULO 2.1 - 13º SALÁRIO, FÉRIAS E ADICIONAL DE FÉRIAS PAGAMENTO POR FATO GERADOR
A17: A | B17: 13º Salário | E17: 0.0833 | H17: =E17*E12 -> 129.55066
A18: B | B18: Férias e Adicional de férias | E18: 0.121 | H18: =E18*E12 -> 188.18283
A19: TOTAL | H19: =SUM(H17:J18) -> 317.73349
A20: C | B20: Incidências dos encargos do submódulo 2.2 sobre o 13º salário, férias e adicional de férias | E20: 0.0782 | H20: =E12*E20 -> 121.61899
A21: SUBMÓDULO 2.2 - ENCARGOS PREVIDENCIÁRIOS (GPS), FUNDO DE GARANTIA POR TEMPO DE SERVIÇO (FGTS) E OUTRAS CONTRIBUIÇÕES *
A22: A | C22: INSS | E22: 0.2 | H22: =E22*(E12+H19) -> 374.5927
A23: B | C23: Salário Educação | E23: 0.025 | H23: =E23*(E12+H19) -> 46.824087
A24: C | C24: SAT | E24: 0.03 | H24: =E24*(E12+H19) -> 56.188905
A25: D | C25: SESC ou SESI | E25: 0.015 | H25: =E25*(E12+H19) -> 28.094452
A26: E | C26: SENAI - SENAC | E26: 0.01 | H26: =E26*(E12+H19) -> 18.729635
A27: F | C27: SEBRAE | E27: 0.006 | H27: =E27*(E12+H19) -> 11.237781
A28: G | C28: INCRA | E28: 0.002 | H28: =E28*(E12+H19) -> 3.745927
A29: H | C29: FGTS | E29: 0.08 | H29: =E29*(E12+H19) -> 149.83708
A30: TOTAL | E30: =SUM(E22:G29) -> 0.368 | H30: =SUM(H22:J29) -> 689.25056
A31: SUBMÓDULO 2.3 - BENEFÍCIOS MENSAIS E DIÁRIOS **
A32: A | C32: Transporte | H32: =(3.9*2*25.5)-6%*E6 -> 130.6662
A33: B | C33: Auxílio-Refeição/Alimentação | H33: =(21.63*25.5)-20% -> 551.365
A34: C | C34: Assistência médica e familiar | H34: 36.57
A35: D | C35: Outros (especificar) | H35: 25.95
A36: TOTAL | H36: =SUM(H32:J35) -> 744.5512
A37: TOTAL DO MÓDULO 2 | E37: =H19+H30+H36 -> 1751.5353
A39: MÓDULO 3 - PROVISÃO PARA RESCISÃO - PAGAMENTO POR FATO GERADOR
A40: A | C40: Aviso-prévio indenizado | H40: =E12/12*5% -> 6.480125
A41: B | C41: Incidência do FGTS sobre aviso-prévio indenizado | H41: =H40*8% -> 0.51841
A42: C | C42: Multa sobre FGTS e contribuições sociais sobre aviso-prévio indenizado | H42: =E42*E12 -> 0
A43: D | C43: Aviso-prévio trabalhado | H43: =E12/30/12*7*100% -> 30.240583
...

Sheet AUX LIM 12X36 S INS
A1: ANEXO I - PLANILHA DE VALORES E CUSTOS DOS POSTOS
A2: CARGO | D2: AUXILIAR DE LIMPEZA (12x36) HORAS SEM ADICIONAL DE INSALUBRIDADE
A4: MÓDULO 1 - COMPOSIÇÃO DA REMUNERAÇÃO *
A5: * Valor mensal devido ao empregado pela prestação do serviço no período de 12 meses
A6: A | B6: Salário-base | E6: 1137.23
A7: B | B7: Adicional de Periculosidade
A8: C | B8: Adicional Noturno
A9: D | B9: Adicional de Hora Noturna Reduzida
A10: E | B10: Outros (especificar)
A11: F | B11: Adicional de Insalubridade (Ver grau de ins. 10%, 20% ou 40% Sobre o salário mínimo)
A12: TOTAL MODULO 1 | E12: =SUM(E6:J11) -> 1137.23
A13: Incidência dos encargos do Submódulo 2.2 sobre a composição da remuneração | E13: =E12*E30 -> 418.50064
A15: MÓDULO 2 - ENCARGOS E BENEFÍCIOS ANUAIS, MENSAIS E DIÁRIOS
A16: SUBMÓDULO 2.1 - 13º SALÁRIO, FÉRIAS E ADICIONAL DE FÉRIAS PAGAMENTO POR FATO GERADOR
A17: A | B17: 13º Salário | E17: 0.0833 | H17: =E17*E12 -> 94.731259
A18: B | B18: Férias e Adicional de férias | E18: 0.121 | H18: =E18*E12 -> 137.60483
A19: TOTAL | H19: =SUM(H17:J18) -> 232.33609
A20: C | B20: Incidências dos encargos do submódulo 2.2 sobre o 13º salário, férias e adicional de férias | E20: 0.0782 | H20: =E12*E20 -> 88.931386
A21: SUBMÓDULO 2.2 - ENCARGOS PREVIDENCIÁRIOS (GPS), FUNDO DE GARANTIA POR TEMPO DE SERVIÇO (FGTS) E OUTRAS CONTRIBUIÇÕES *
A22: A | C22: INSS | E22: 0.2 | H22: =E22*(E12+H19) -> 273.91322
A23: B | C23: Salário Educação | E23: 0.025 | H23: =E23*(E12+H19) -> 34.239152
A24: C | C24: SAT | E24: 0.03 | H24: =E24*(E12+H19) -> 41.086983
A25: D | C25: SESC ou SESI | E25: 0.015 | H25: =E25*(E12+H19) -> 20.543491
A26: E | C26: SENAI - SENAC | E26: 0.01 | H26: =E26*(E12+H19) -> 13.695661
A27: F | C27: SEBRAE | E27: 0.006 | H27: =E27*(E12+H19) -> 8.2173965
A28: G | C28: INCRA | E28: 0.002 | H28: =E28*(E12+H19) -> 2.7391322
A29: H | C29: FGTS | E29: 0.08 | H29: =E29*(E12+H19) -> 109.56529
A30: TOTAL | E30: =SUM(E22:G29) -> 0.368 | H30: =SUM(H22:J29) -> 504.00032
A31: SUBMÓDULO 2.3 - BENEFÍCIOS MENSAIS E DIÁRIOS **
A32: A | C32: Transporte | H32: =(3.9*2*16)-6%*E6 -> 56.5662
A33: B | C33: Auxílio-Refeição/Alimentação | H33: =(21.63*16)-20% -> 345.88
A34: C | C34: Assistência médica e familiar | H34: 36.57
A35: D | C35: Outros (especificar) | H35: 25.95
A36: TOTAL | H36: =SUM(H32:J35) -> 464.9662
A37: TOTAL DO MÓDULO 2 | E37: =H19+H30+H36 -> 1201.3026
A39: MÓDULO 3 - PROVISÃO PARA RESCISÃO - PAGAMENTO POR FATO GERADOR
A40: A | C40: Aviso-prévio indenizado | H40: =E12/12*5% -> 4.7384583
A41: B | C41: Incidência do FGTS sobre aviso-prévio indenizado | H41: =H40*8% -> 0.37907667
A42: C | C42: Multa sobre FGTS e contribuições sociais sobre aviso-prévio indenizado | H42: =E42*E12 -> 0
A43: D | C43: Aviso-prévio trabalhado | H43: =E12/30/12*7*100% -> 22.112806
...

Sheet AUX LIM 12X36 C INS 20%
A1: ANEXO I - PLANILHA DE VALORES E CUSTOS DOS POSTOS
A2: CARGO | D2: AUXILIAR DE LIMPEZA (12x36) HORAS COM ADICIONAL DE INSALUBRIDADE DE 20%
A4: MÓDULO 1 - COMPOSIÇÃO DA REMUNERAÇÃO *
A5: * Valor mensal devido ao empregado pela prestação do serviço no período de 12 meses
A6: A | B6: Salário-base | E6: 1137.23
A7: B | B7: Adicional de Periculosidade
A8: C | B8: Adicional Noturno
A9: D | B9: Adicional de Hora Noturna Reduzida
A10: E | B10: Outros (especificar)
A11: F | B11: Adicional de Insalubridade 20% | E11: =1045*20% -> 209
A12: TOTAL MODULO 1 | E12: =SUM(E6:J11) -> 1346.23
A13: Incidência dos encargos do Submódulo 2.2 sobre a composição da remuneração | E13: =E12*E30 -> 495.41264
A15: MÓDULO 2 - ENCARGOS E BENEFÍCIOS ANUAIS, MENSAIS E DIÁRIOS
A16: SUBMÓDULO 2.1 - 13º SALÁRIO, FÉRIAS E ADICIONAL DE FÉRIAS PAGAMENTO POR FATO GERADOR
A17: A | B17: 13º Salário | E17: 0.0833 | H17: =E17*E12 -> 112.14096
A18: B | B18: Férias e Adicional de férias | E18: 0.121 | H18: =E18*E12 -> 162.89383
A19: TOTAL | H19: =SUM(H17:J18) -> 275.03479
A20: C | B20: Incidências dos encargos do submódulo 2.2 sobre o 13º salário, férias e adicional de férias | E20: 0.0782 | H20: =E12*E20 -> 105.27519
A21: SUBMÓDULO 2.2 - ENCARGOS PREVIDENCIÁRIOS (GPS), FUNDO DE GARANTIA POR TEMPO DE SERVIÇO (FGTS) E OUTRAS CONTRIBUIÇÕES *
A22: A | C22: INSS | E22: 0.2 | H22: =E22*(E12+H19) -> 324.25296
A23: B | C23: Salário Educação | E23: 0.025 | H23: =E23*(E12+H19) -> 40.53162
A24: C | C24: SAT | E24: 0.03 | H24: =E24*(E12+H19) -> 48.637944
A25: D | C25: SESC ou SESI | E25: 0.015 | H25: =E25*(E12+H19) -> 24.318972
A26: E | C26: SENAI - SENAC | E26: 0.01 | H26: =E26*(E12+H19) -> 16.212648
A27: F | C27: SEBRAE | E27: 0.006 | H27: =E27*(E12+H19) -> 9.7275887
A28: G | C28: INCRA | E28: 0.002 | H28: =E28*(E12+H19) -> 3.2425296
A29: H | C29: FGTS | E29: 0.08 | H29: =E29*(E12+H19) -> 129.70118
A30: TOTAL | E30: =SUM(E22:G29) -> 0.368 | H30: =SUM(H22:J29) -> 596.62544
A31: SUBMÓDULO 2.3 - BENEFÍCIOS MENSAIS E DIÁRIOS **
A32: A | C32: Transporte | H32: =(3.9*2*16)-6%*E6 -> 56.5662
A33: B | C33: Auxílio-Refeição/Alimentação | H33: =(21.63*16)-20% -> 345.88
A34: C | C34: Assistência médica e familiar | H34: 36.57
A35: D | C35: Outros (especificar) | H35: 25.95
A36: TOTAL | H36: =SUM(H32:J35) -> 464.9662
A37: TOTAL DO MÓDULO 2 | E37: =H19+H30+H36 -> 1336.6264
A39: MÓDULO 3 - PROVISÃO PARA RESCISÃO - PAGAMENTO POR FATO GERADOR
A40: A | C40: Aviso-prévio indenizado | H40: =E12/12*5% -> 5.6092917
A41: B | C41: Incidência do FGTS sobre aviso-prévio indenizado | H41: =H40*8% -> 0.44874333
A42: C | C42: Multa sobre FGTS e contribuições sociais sobre aviso-prévio indenizado | H42: =E42*E12 -> 0
A43: D | C43: Aviso-prévio trabalhado | H43: =E12/30/12*7*100% -> 26.176694
...

Sheet AUX LIM 12X36 C INS 40%
A1: ANEXO I - PLANILHA DE VALORES E CUSTOS DOS POSTOS
A2: CARGO | D2: AUXILIAR DE LIMPEZA (12x36) HORAS COM ADICIONAL DE INSALUBRIDADE DE 40%
A4: MÓDULO 1 - COMPOSIÇÃO DA REMUNERAÇÃO *
A5: * Valor mensal devido ao empregado pela prestação do serviço no período de 12 meses
A6: A | B6: Salário-base | E6: 1137.23
A7: B | B7: Adicional de Periculosidade
A8: C | B8: Adicional Noturno
A9: D | B9: Adicional de Hora Noturna Reduzida
A10: E | B10: Outros (especificar)
A11: F | B11: Adicional de Insalubridade 40% | E11: =1045*40% -> 418
A12: TOTAL MODULO 1 | E12: =SUM(E6:J11) -> 1555.23
A13: Incidência dos encargos do Submódulo 2.2 sobre a composição da remuneração | E13: =E12*E30 -> 572.32464
A15: MÓDULO 2 - ENCARGOS E BENEFÍCIOS ANUAIS, MENSAIS E DIÁRIOS
A16: SUBMÓDULO 2.1 - 13º SALÁRIO, FÉRIAS E ADICIONAL DE FÉRIAS - PAGAMENTO POR FATO GERADOR
A17: A | B17: 13º Salário | E17: 0.0833 | H17: =E17*E12 -> 129.55066
A18: B | B18: Férias e Adicional de férias | E18: 0.121 | H18: =E18*E12 -> 188.18283
A19: TOTAL | H19: =SUM(H17:J18) -> 317.73349
A20: C | B20: Incidências dos encargos do submódulo 2.2 sobre o 13º salário, férias e adicional de férias | E20: 0.0782 | H20: =E12*E20 -> 121.61899
A21: SUBMÓDULO 2.2 - ENCARGOS PREVIDENCIÁRIOS (GPS), FUNDO DE GARANTIA POR TEMPO DE SERVIÇO (FGTS) E OUTRAS CONTRIBUIÇÕES *
A22: A | C22: INSS | E22: 0.2 | H22: =E22*(E12+H19) -> 374.5927
A23: B | C23: Salário Educação | E23: 0.025 | H23: =E23*(E12+H19) -> 46.824087
A24: C | C24: SAT | E24: 0.03 | H24: =E24*(E12+H19) -> 56.188905
A25: D | C25: SESC ou SESI | E25: 0.015 | H25: =E25*(E12+H19) -> 28.094452
A26: E | C26: SENAI - SENAC | E26: 0.01 | H26: =E26*(E12+H19) -> 18.729635
A27: F | C27: SEBRAE | E27: 0.006 | H27: =E27*(E12+H19) -> 11.237781
A28: G | C28: INCRA | E28: 0.002 | H28: =E28*(E12+H19) -> 3.745927
A29: H | C29: FGTS | E29: 0.08 | H29: =E29*(E12+H19) -> 149.83708
A30: TOTAL | E30: =SUM(E22:G29) -> 0.368 | H30: =SUM(H22:J29) -> 689.25056
A31: SUBMÓDULO 2.3 - BENEFÍCIOS MENSAIS E DIÁRIOS **
A32: A | C32: Transporte | H32: =(3.9*2*16)-6%*E6 -> 56.5662
A33: B | C33: Auxílio-Refeição/Alimentação | H33: =(21.63*16)-20% -> 345.88
A34: C | C34: Assistência médica e familiar | H34: 36.57
A35: D | C35: Outros (especificar) | H35: 25.95
A36: TOTAL | H36: =SUM(H32:J35) -> 464.9662
A37: TOTAL DO MÓDULO 2 | E37: =H19+H30+H36 -> 1471.9503
A39: MÓDULO 3 - PROVISÃO PARA RESCISÃO - PAGAMENTO POR FATO GERADOR
A40: A | C40: Aviso-prévio indenizado | H40: =E12/12*5% -> 6.480125
A41: B | C41: Incidência do FGTS sobre aviso-prévio indenizado | H41: =H40*8% -> 0.51841
A42: C | C42: Multa sobre FGTS e contribuições sociais sobre aviso-prévio indenizado | H42: =E42*E12 -> 0
A43: D | C43: Aviso-prévio trabalhado | H43: =E12/30/12*7*100% -> 30.240583
...

Sheet AUX LIM 12X36 N SEM INS
A1: ANEXO I - PLANILHA DE VALORES E CUSTOS DOS POSTOS
A2: CARGO | D2: AUXILIAR DE LIMPEZA (12x36) HORAS - NOTURNO SEM ADICIONAL DE INSALUBRIDADE
A4: MÓDULO 1 - COMPOSIÇÃO DA REMUNERAÇÃO *
A5: * Valor mensal devido ao empregado pela prestação do serviço no período de 12 meses
A6: A | B6: Salário-base | E6: 1137.23
A7: B | B7: Adicional de Periculosidade
A8: C | B8: Adicional Noturno | E8: =(((E6/210)*20%)*9)*16 -> 155.96297
A9: D | B9: Adicional de Hora Noturna Reduzida | E9: =(((E6/210)*20%)*0.14)*16 -> 2.4260907
A10: E | B10: Outros (especificar) | E10: =(((E8+E9)/25)*5) -> 31.677812
A11: F | B11: Adicional de Insalubridade (Ver grau de ins. 10%, 20% ou 40% Sobre o salário mínimo)
A12: TOTAL MODULO 1 | E12: =SUM(E6:J11) -> 1327.2969
A13: Incidência dos encargos do Submódulo 2.2 sobre a composição da remuneração | E13: =E12*E30 -> 488.44525
A15: MÓDULO 2 - ENCARGOS E BENEFÍCIOS ANUAIS, MENSAIS E DIÁRIOS
A16: SUBMÓDULO 2.1 - 13º SALÁRIO, FÉRIAS E ADICIONAL DE FÉRIAS - PAGAMENTO POR FATO GERADOR
A17: A | B17: 13º Salário | E17: 0.0833 | H17: =E17*E12 -> 110.56383
A18: B | B18: Férias e Adicional de férias | E18: 0.121 | H18: =E18*E12 -> 160.60292
A19: TOTAL | H19: =SUM(H17:J18) -> 271.16675
A20: C | B20: Incidências dos encargos do submódulo 2.2 sobre o 13º salário, férias e adicional de férias | E20: 0.0782 | H20: =E12*E20 -> 103.79462
A21: SUBMÓDULO 2.2 - ENCARGOS PREVIDENCIÁRIOS (GPS), FUNDO DE GARANTIA POR TEMPO DE SERVIÇO (FGTS) E OUTRAS CONTRIBUIÇÕES *
A22: A | C22: INSS | E22: 0.2 | H22: =E22*(E12+H19) -> 319.69273
A23: B | C23: Salário Educação | E23: 0.025 | H23: =E23*(E12+H19) -> 39.961591
A24: C | C24: SAT | E24: 0.03 | H24: =E24*(E12+H19) -> 47.953909
A25: D | C25: SESC ou SESI | E25: 0.015 | H25: =E25*(E12+H19) -> 23.976954
A26: E | C26: SENAI - SENAC | E26: 0.01 | H26: =E26*(E12+H19) -> 15.984636
A27: F | C27: SEBRAE | E27: 0.006 | H27: =E27*(E12+H19) -> 9.5907818
